BEGIN:VCALENDAR
VERSION:2.0
PRODID:-//Forum Austriaco di Cultura Roma - ECPv5.12.4//NONSGML v1.0//EN
CALSCALE:GREGORIAN
METHOD:PUBLISH
X-WR-CALNAME:Forum Austriaco di Cultura Roma
X-ORIGINAL-URL:https://www.austriacult.roma.it/de
X-WR-CALDESC:Events for Forum Austriaco di Cultura Roma
BEGIN:VTIMEZONE
TZID:Europe/Berlin
BEGIN:DAYLIGHT
TZOFFSETFROM:+0100
TZOFFSETTO:+0200
TZNAME:CEST
DTSTART:20190331T010000
END:DAYLIGHT
BEGIN:STANDARD
TZOFFSETFROM:+0200
TZOFFSETTO:+0100
TZNAME:CET
DTSTART:20191027T010000
END:STANDARD
END:VTIMEZONE
BEGIN:VEVENT
DTSTART;TZID=Europe/Berlin:20190503T080000
DTEND;TZID=Europe/Berlin:20190503T180000
DTSTAMP:20260423T013521
CREATED:20190418T093520Z
LAST-MODIFIED:20190529T132304Z
UID:6166-1556870400-1556906400@www.austriacult.roma.it
SUMMARY:TRIBUT AN THOMAS BERNHARD – Dialoge 1989-2019
DESCRIPTION:30 Jahre nach seinem Tod beschäftigt sich diese Veranstaltung mit dem großen Thomas Bernhard und wendet sich dabei nicht nur an Fachleute\, sondern an alle\, die den österreichischen Schriftsteller besser kennen lernen möchten. \nDie Veranstaltung wird von Paolo Massari organisiert und vom Literaturkritiker Franz Haas moderiert\, wobei die Verbindung Bernhard-Italien im Mittelpunkt steht. Es sprechen unter anderem der Übersetzer Samir Thabet und die Regisseurin Monica Giovinazzi sowie die Bernhard-Kenner Stefano Apostolo\, Micaela Latini und Paolo Massari\, die die Aspekte Kunst\, Prosa\, Lyrik\, Musik und Theater beleuchten. Einer der Höhepunkte der Veranstaltung wird eine von Monica Giovinazzi kuratierte Performance sein.  \nPlakat \nBiografie \nThomas Bernhard (Heerlen 1931 – Gmunden 1989) begann seine schriftstellerische Laufbahn 1957 mit dem Gedichtband Auf der Erde und in der Hölle (1957) und fand schließlich seinen unverwechselbaren Stil in der Prosa\, innerhalb dieser bevorzugt in den Gattungen Roman und Erzählung\, und im Drama. In den oft verschachtelten Sätzen seiner Monologe\, seiner Theaterfiguren und den Gedanken seiner Ich-Erzähler wie in den Prosatexten Frost (1963)\, Amras (1964)\, Verstörung (1967)\, Das Kalkwerk (197o)\, Korrektur (1975) und Der Stimmenimitator (1978) kommen seine ‚Erregungen‘\, seine innere Wut\, die Ausdruck erlittener Verletzungen und Enttäuschungen sind\, immer wieder zum Vorschein. \nEin besonderes stilistisches Merkmal von Bernhards Prosa ist eine Technik der Steigerung und der Übertreibung\, was jeweils sehr kunstvoll durch eine Wiederholungstechnik orchestriert wird\, in der zum einen bestimmte Themen\, Versatzstücke und abfällige Bezeichnungen mit hoher Frequenz wiederholt (aber immer auch leicht variiert) und dabei immer weiter gesteigert werden. \nBernhard provozierte vor allem in seiner österreichischen Heimat immer wieder heftige Kritik\, viele seiner Aufführungen wurden von öffentlichen Debatten überschattet\, die Politik\, Boulevardpresse und Kunstbetrieb gleichermaßen in Atem hielten. Die in seinen Texten beschriebene Abneigung gegenüber Österreich löste regelmäßig heftige Gegenreaktionen aus – vor allem der 1984 veröffentlichte Roman Holzfällen sowie  das Drama Heldenplatz\, das er zum 50. Jahrestag des „Anschlusses“ Österreichs an NS-Deutschland geschrieben hatte.\nZum letzten Mal sorgte Bernhard nach seinem Tod im Februar 1989 mit seinem Testament für Aufregung\, in dem er ein allgemeines Aufführungs- und Publikationsverbot aller seiner Werke innerhalb der Grenzen Österreichs verfügt hatte. Dieses wurde mit der Gründung der Thomas Bernhard-Privatstiftung aufgehoben. 
URL:https://www.austriacult.roma.it/de/veranstaltung/tributo-a-thomas-bernhard-dialoghi-1989-2019/
LOCATION:Rom – Moby Dick Biblioteca Hub Culturale\, Via Edgardo Ferrati 3
CATEGORIES:Literatur
ATTACH;FMTTYPE=image/png:https://www.austriacult.roma.it/wp-content/uploads/2019/04/Thomas-B.png
END:VEVENT
END:VCALENDAR