BEGIN:VCALENDAR
VERSION:2.0
PRODID:-//Forum Austriaco di Cultura Roma - ECPv5.12.4//NONSGML v1.0//EN
CALSCALE:GREGORIAN
METHOD:PUBLISH
X-WR-CALNAME:Forum Austriaco di Cultura Roma
X-ORIGINAL-URL:https://www.austriacult.roma.it/de
X-WR-CALDESC:Events for Forum Austriaco di Cultura Roma
BEGIN:VTIMEZONE
TZID:Europe/Berlin
BEGIN:DAYLIGHT
TZOFFSETFROM:+0100
TZOFFSETTO:+0200
TZNAME:CEST
DTSTART:20220327T010000
END:DAYLIGHT
BEGIN:STANDARD
TZOFFSETFROM:+0200
TZOFFSETTO:+0100
TZNAME:CET
DTSTART:20221030T010000
END:STANDARD
END:VTIMEZONE
BEGIN:VEVENT
DTSTART;VALUE=DATE:20221117
DTEND;VALUE=DATE:20221120
DTSTAMP:20260421T164048
CREATED:20221028T080823Z
LAST-MODIFIED:20221102T124244Z
UID:12503-1668643200-1668902399@www.austriacult.roma.it
SUMMARY:The European Pavilion
DESCRIPTION:Der European Pavilion ist ein Programm der European Cultural Foundation\, das Räume zum Experimentieren und Nachdenken über Europa ermöglicht. Alle Projekte werden nun anlässlich eines großen Kunstevents in Rom präsentiert. \nDrei Tage lang kommen Künstler*innen\, Denker*innen und Forscher*innen aus dem ganzen Kontinent zu einem Programm zusammen\, das Podiumsdiskussionen\, Vorträge und Workshops\, Musikdarbietungen\, eine Virtual-Reality-Umgebung sowie skulpturale und multimediale Installationen bietet\, die sich auf die Aktivitäten der European Pavillon Initiative beziehen.  \nAus Wien nehmen die Kuratorin Fariba Mosleh und die partizipative Ko-Kuratorin Natalia Hecht mit einer Ausstellung im Goethe Institut und einem Workshop in der Bibliotheca Hertziana teil. \nProgramm (pdf) \nProgramm Facebook \n  \n  \n  \n  \n  \n 
URL:https://www.austriacult.roma.it/de/veranstaltung/the-european-pavilion/
LOCATION:Rom – Goethe Institut\, Via Savoia 15
CATEGORIES:Ausstellung
ATTACH;FMTTYPE=image/jpeg:https://www.austriacult.roma.it/wp-content/uploads/2022/10/Banners-FB-events_3.jpg
END:VEVENT
END:VCALENDAR