BEGIN:VCALENDAR
VERSION:2.0
PRODID:-//Forum Austriaco di Cultura Roma - ECPv5.12.4//NONSGML v1.0//EN
CALSCALE:GREGORIAN
METHOD:PUBLISH
X-WR-CALNAME:Forum Austriaco di Cultura Roma
X-ORIGINAL-URL:https://www.austriacult.roma.it/de
X-WR-CALDESC:Events for Forum Austriaco di Cultura Roma
BEGIN:VTIMEZONE
TZID:Europe/Berlin
BEGIN:DAYLIGHT
TZOFFSETFROM:+0100
TZOFFSETTO:+0200
TZNAME:CEST
DTSTART:20220327T010000
END:DAYLIGHT
BEGIN:STANDARD
TZOFFSETFROM:+0200
TZOFFSETTO:+0100
TZNAME:CET
DTSTART:20221030T010000
END:STANDARD
END:VTIMEZONE
BEGIN:VEVENT
DTSTART;TZID=Europe/Berlin:20221208T150000
DTEND;TZID=Europe/Berlin:20221208T160000
DTSTAMP:20260422T093318
CREATED:20221130T113736Z
LAST-MODIFIED:20221201T080754Z
UID:12698-1670511600-1670515200@www.austriacult.roma.it
SUMMARY:Auf den Spuren Ingeborg Bachmanns zwischen Berlin und Rom | Elisa Casseri im Gespräch mit Ilaria Gaspari
DESCRIPTION:Die Schriftstellerin Elisa Casseri spricht mit Iaria Gaspari\, die einen ungewöhnlichen literarischen Berlin-Reiseführer geschrieben hat: A Berlino – con Ingeborg Bachmann nella città divisa. \nSie berichtet dort von ihrer verrückten und poetischen Suche nach der Symbollandschaft eines bis zum Äußersten gewagten Lebens in den Romanen der großartigen österreichischen Schriftstellerin. \nGrußworte von Georg Schnetzer\, Direktor des Österreichischen Kulturforums Rom\, und Joachim Bernauer\, Direktor des Goethe-Instituts Rom. \nOrganisiert vom Verlag Giulio Perrone Editore\, Goethe-Institut Rom und der Deutschen Botschaft. In Zusammenarbeit mit Österreichischen Kulturforum Rom. \nInterview mit Ilaria Gaspari (Italienisch) https://www.goethe.de/ins/it/it/kul/lit/24136391.html  \n 
URL:https://www.austriacult.roma.it/de/veranstaltung/sulle-tracce-di-ingeborg-bachmann-fra-berlino-e-roma-un-dialogo-fra-elisa-casseri-e-ilaria-gaspari/
LOCATION:Rom – La Nuvola\, viale Asia 40 /44 (EUR)
CATEGORIES:Literatur
ATTACH;FMTTYPE=image/jpeg:https://www.austriacult.roma.it/wp-content/uploads/2022/11/plpl_goethe_neu_resized-2.jpg
END:VEVENT
END:VCALENDAR