BEGIN:VCALENDAR
VERSION:2.0
PRODID:-//Forum Austriaco di Cultura Roma - ECPv5.12.4//NONSGML v1.0//EN
CALSCALE:GREGORIAN
METHOD:PUBLISH
X-WR-CALNAME:Forum Austriaco di Cultura Roma
X-ORIGINAL-URL:https://www.austriacult.roma.it/de
X-WR-CALDESC:Events for Forum Austriaco di Cultura Roma
BEGIN:VTIMEZONE
TZID:Europe/Berlin
BEGIN:DAYLIGHT
TZOFFSETFROM:+0100
TZOFFSETTO:+0200
TZNAME:CEST
DTSTART:20200329T010000
END:DAYLIGHT
BEGIN:STANDARD
TZOFFSETFROM:+0200
TZOFFSETTO:+0100
TZNAME:CET
DTSTART:20201025T010000
END:STANDARD
END:VTIMEZONE
BEGIN:VEVENT
DTSTART;TZID=Europe/Berlin:20200419T143000
DTEND;TZID=Europe/Berlin:20200419T143000
DTSTAMP:20260422T012258
CREATED:20200408T083937Z
LAST-MODIFIED:20200410T101353Z
UID:8194-1587306600-1587306600@www.austriacult.roma.it
SUMMARY:FLORIAN FEILMAIR | Beethovens Klavierwerke
DESCRIPTION:Florian Feilmair (Klavier)  \nProgramm: \nLudwig van Beethoven:  32 Variationen in c-Moll WoO 80\nTema. Allegretto – Var. I – XXXII – Coda.\nLudwig van Beethoven: Sonate op. 111 in c-Moll \nMaestoso – Allegro con brio ed appassionato\nArietta. Adagio molto semplice e cantabile \n  \nUm dieses Konzert gratis anzuhören\, senden Sie bitte bis Freitag\, 17. April\, 14.00 Uhr\, ein e-Mail an die Adresse ROM-KF@bmeia.gv.at mit Betreff “KLASSIK + gewünschtes Konzertdatum”. Sie erhalten anschließend ein Passwort\, das Sie auf  www.konzertsaal.at eingeben.  \n 
URL:https://www.austriacult.roma.it/de/veranstaltung/sturm-und-transzendenz-florian-feilmair-beethoven-composizioni-per-pianoforte/
LOCATION:#AustriaKulturInternational #AustriaKulturDigital
CATEGORIES:Musik
ATTACH;FMTTYPE=image/jpeg:https://www.austriacult.roma.it/wp-content/uploads/2020/04/Florian-Feilmair-c-Foto-Humer-cut-2.jpg
END:VEVENT
END:VCALENDAR