BEGIN:VCALENDAR
VERSION:2.0
PRODID:-//Forum Austriaco di Cultura Roma - ECPv5.12.4//NONSGML v1.0//EN
CALSCALE:GREGORIAN
METHOD:PUBLISH
X-WR-CALNAME:Forum Austriaco di Cultura Roma
X-ORIGINAL-URL:https://www.austriacult.roma.it/de
X-WR-CALDESC:Events for Forum Austriaco di Cultura Roma
BEGIN:VTIMEZONE
TZID:Europe/Berlin
BEGIN:DAYLIGHT
TZOFFSETFROM:+0100
TZOFFSETTO:+0200
TZNAME:CEST
DTSTART:20240331T010000
END:DAYLIGHT
BEGIN:STANDARD
TZOFFSETFROM:+0200
TZOFFSETTO:+0100
TZNAME:CET
DTSTART:20241027T010000
END:STANDARD
END:VTIMEZONE
BEGIN:VEVENT
DTSTART;TZID=Europe/Berlin:20241107T180000
DTEND;TZID=Europe/Berlin:20241107T180000
DTSTAMP:20260422T045038
CREATED:20241024T142111Z
LAST-MODIFIED:20241107T101538Z
UID:22133-1731002400-1731002400@www.austriacult.roma.it
SUMMARY:Shaken Grounds: Seismography of Precarious Presences
DESCRIPTION:Shaken Grounds: Seismography of Precarious Presences (Erschütterte Böden: Seismographie der prekären Gegenwart) reflektiert über die Schnittstelle zwischen Klimawandel\, seismischen Kräften und Kunst. \nDie Ausstellung zeigt Videos einer Reihe von künstlerischen Interventionen\, die im Gebiet der Phlegräischen Felder am Vesuv\, auf der Insel Vulcano und am Pasterze-Gletscher (Großglockner) durchgeführt wurden\, sowie Interviews mit zwei Geologen des Nationalen Instituts für Geophysik und Vulkanologie (INGV) in Neapel\, der österreichischen Kunsthistorikerin und Kuratorin Sabine Folie und dem österreichischen Philosophen Arno Böhler. Eine Kurzdokumentation des zuletzt im MAXXI Museum abgehaltenen Symposiums Shaken Grounds\, Shifting Skies: Art as a Seismography of Precarious Presences sowie des italienischen Volcanic Attitude Festivals\, und die Filmcollage Vulcanalia von VestAndPage geben Einblicke in den künstlerischen Forschungsprozess. \nNikolaus Gansterer (AT)\, Mariella Greil (AT)\, Peter Kozek (AT)\, und Lucie Strecker (DE/AT)\, in Zusammenarbeit mit Volcanic Attitude Festival (IT)\, Nicolas Freytag (CH)\, Nicola Fornoni (IT)\, Victor Jaschke (AT)\, Werner Moebius (AT)\, und VestAndPage (Andrea Pagnes [IT] / Verena Stenke [DE]) \n  \nAusstellungseröffnung\, Österreichisches Kulturforum Rom\, 07.11.2024 \n  \n18.00 Uhr Begrüßung Teresa Indjein – Direktorin Österreichisches Kulturforum Rom und\nPaolo Castelli – Referent für Kunstgeschichte\, Generaldirektion für zeitgenössische Kreativität\, Kulturministerium Italien \n18.30 Uhr Impulsvortrag Nikolaus Gansterer\, Mariella Greil\, Peter Kozek und Lucie Strecker\, Universität für Angewandte Kunst Wien  \n19.00 Uhr Publikumsgespräch \n  \n“The geo-philosopher moves along the crest of turbulence\, on the shoulders of waves that envelop mind\, energy\, and matter\, and that diffuse them into the atmosphere.” (Gilles Deleuze\, 1993) – (Der Geophilosoph bewegt sich auf dem Kamm der Turbulenzen\, auf den Schultern der Wellen\, die den Geist\, die Energie und die Materie einhüllen und sie in die Atmosphäre verbreiten.) \nSeit Jahrtausenden wurden Kultstätten an Orten errichtet\, an denen Menschen in Verbindung mit dem Inneren der Erde treten können. Vulkane\, tektonische Risse oder Höhlen zeugen von einer geologischen Zeit\, die über die individuelle menschliche Lebensdauer hinausweist. Riten\, die an diesen Stätten durchgeführt wurden\, unterstützten eine veränderte Zeitwahrnehmung\, die zu mehr Verantwortung gegenüber der Zukunft führte. \nHeute entstehen an seismisch aktiven Zonen jedoch andere Formen kulturellen Ausdruckes. Denn während solche Orte uns einst mit einer polytemporalen Weltsicht verbanden\, verweisen sie nun auf vom Menschen verursachte Faktoren: Globale Erwärmung\, das Schmelzen der Gletscher\, Rohstoffabbau\, neue Energietechnologien oder Abfallentsorgung erhöhen die Spannung der Erdkruste. Ob und wie diese multiplen Einflüsse Vulkanausbrüche oder Erdbeben auslösen\, wird von Geologen kontrovers verhandelt. \nDas Künstlerkollektiv Shaken Grounds besuchte die kontinentalen Ränder Süditaliens und einen schmelzenden Gletscher in den Österreichischen Hochalpen\, um die Überschneidungen zwischen natürlicher seismischer Aktivität und anthropogener Umweltzerstörung durch ein verwobenes Netz künstlerischer Experimente zu erforschen. Im Zentrum steht dabei die veränderte Beziehung zwischen menschlichen und mehr-als-menschlichen Körpern und unserer technologisch beeinflussten und stark beschädigten geologischen Umwelt. \nBis zum 29.November 2024\, Mo-Fr (9-17 Uhr). \n  \nIm Rahmen des Calls Imagine Climate Dignity: Künstlerische Kollaborationen\, wird das Projekt im Februar 2025 im Künstlerhaus Wien gezeigt. \nEs wird durch den Österreichischen Wissenschaftsfonds (FWF) finanziert\, in Zusammenarbeit mit der dem Österreichischen Kulturforum Rom\, der Universität für Angewandte Kunst Wien und dessen Angewandte Performance Lab (APL). \nDer FWF PEEK Antrag AR 780\, DOI 10.55776 wurde 2022 von Nikolaus Gansterer\, Dominika Glogowski\, Mariella Greil\, Peter Kozek und Lucie Strecker verfasst. \n  \n 
URL:https://www.austriacult.roma.it/de/veranstaltung/shaken-grounds/
LOCATION:Rom – ÖSTERREICHISCHES KULTURFORUM\, Viale Bruno Buozzi 113
CATEGORIES:Eröffnung,Programm
ATTACH;FMTTYPE=image/png:https://www.austriacult.roma.it/wp-content/uploads/2024/10/5-HP.png
END:VEVENT
END:VCALENDAR