BEGIN:VCALENDAR
VERSION:2.0
PRODID:-//Forum Austriaco di Cultura Roma - ECPv5.12.4//NONSGML v1.0//EN
CALSCALE:GREGORIAN
METHOD:PUBLISH
X-WR-CALNAME:Forum Austriaco di Cultura Roma
X-ORIGINAL-URL:https://www.austriacult.roma.it/de
X-WR-CALDESC:Events for Forum Austriaco di Cultura Roma
BEGIN:VTIMEZONE
TZID:Europe/Berlin
BEGIN:DAYLIGHT
TZOFFSETFROM:+0100
TZOFFSETTO:+0200
TZNAME:CEST
DTSTART:20200329T010000
END:DAYLIGHT
BEGIN:STANDARD
TZOFFSETFROM:+0200
TZOFFSETTO:+0100
TZNAME:CET
DTSTART:20201025T010000
END:STANDARD
END:VTIMEZONE
BEGIN:VEVENT
DTSTART;TZID=Europe/Berlin:20200713T210000
DTEND;TZID=Europe/Berlin:20200713T210000
DTSTAMP:20260421T185633
CREATED:20200615T122149Z
LAST-MODIFIED:20200617T113353Z
UID:8852-1594674000-1594674000@www.austriacult.roma.it
SUMMARY:ROBOLOVE
DESCRIPTION:Dokumentarfilm\, Regie: Maria Arlamovsky\n2020\, 75 min.\, Orig. mit ital. Untertiteln \nROBOLOVE verhandelt die Strategien von Männern und Frauen\, die an der Entwicklung von humanoiden\, androiden Robotern beteiligt sind\, die vielleicht eines Tages den menschlichen Körper und das menschliche Leben erweitern werden.\nAus einer Vielzahl von Perspektiven lernen wir die immense Komplexität dieses Themas zu begreifen. Mit dem japanischen Robotik-Guru Hiroshi Ishiguro\, der Transhumanistin Natasha Vita More – und vielen mehr. Utopische Visionen kollidieren mit der Spannung zwischen Technik und sozialer Verantwortung\, während der Unterschied zwischen Mensch und Androide allmählich zu verschwinden scheint. Aus diesem Mosaik entsteht eine Ambivalenz\, die diese futuristischen Technologien in Frage stellt – gleichzeitig aber voller Aufmerksamkeit jene betrachtet\, die es wagen\, diese neuen Maschinen zu schaffen: Maschinen\, die als Spiegel unserer Menschlichkeit gesehen werden können. \nTRAILER \nDownload flyer_web (Italienisch)\nDownload Pressemitteilung (Italienisch) \n  \nEINTRITT nur mit ANMELDUNG an rom-kf@bmeia.gv.at \nBitte geben Sie Vor- und Nachnamen (maximal 2 Besucher) und den/die gewünschten Film/e an. Anmeldefrist bis 12.00 Uhr des Vorführtages.\nDie Anmeldungen werden in der Reihenfolge ihres Eintreffens berücksichtigt und sind erst gültig\, sobald sie durch ein Mail des KF bestätigt werden.   \nZUGANGSMODALITÄTEN \nMaskenpflicht am Eingang; Temperaturmessung – kein Eintritt über 37\,5° C.; Mindestabstand von 1 Meter zu anderen Besuchern. \n 
URL:https://www.austriacult.roma.it/de/veranstaltung/robolove/
LOCATION:Rom – Österreichisches Kulturforum\, Viale Bruno Buozzi 113\, 00197
CATEGORIES:Film
ATTACH;FMTTYPE=image/jpeg:https://www.austriacult.roma.it/wp-content/uploads/2020/06/Robolove-02.jpg
END:VEVENT
END:VCALENDAR