BEGIN:VCALENDAR
VERSION:2.0
PRODID:-//Forum Austriaco di Cultura Roma - ECPv5.12.4//NONSGML v1.0//EN
CALSCALE:GREGORIAN
METHOD:PUBLISH
X-WR-CALNAME:Forum Austriaco di Cultura Roma
X-ORIGINAL-URL:https://www.austriacult.roma.it/de
X-WR-CALDESC:Events for Forum Austriaco di Cultura Roma
BEGIN:VTIMEZONE
TZID:Europe/Berlin
BEGIN:DAYLIGHT
TZOFFSETFROM:+0100
TZOFFSETTO:+0200
TZNAME:CEST
DTSTART:20160327T010000
END:DAYLIGHT
BEGIN:STANDARD
TZOFFSETFROM:+0200
TZOFFSETTO:+0100
TZNAME:CET
DTSTART:20161030T010000
END:STANDARD
END:VTIMEZONE
BEGIN:VEVENT
DTSTART;TZID=Europe/Berlin:20161213T190000
DTEND;TZID=Europe/Berlin:20161213T203000
DTSTAMP:20260421T194737
CREATED:20161130T145347Z
LAST-MODIFIED:20161130T145512Z
UID:4117-1481655600-1481661000@www.austriacult.roma.it
SUMMARY:Riccardo Lombardi und das Konzil\, di Erwin Bader
DESCRIPTION:Il professore emerito presso l‘Institut für Philosophie dell’università di Vienna\, Erwin Bader \npresenta il suo ultimo libro “Riccardo Lombardi und das Konzil. Kann Liebe die Welt verändern?”. Interviene Padre Federico Lombardi\, già direttore della sala stampa vaticana. \nScheda libro (in tedesco)
URL:https://www.austriacult.roma.it/de/veranstaltung/riccardo-lombardi-und-das-konzil-di-erwin-bader/
LOCATION:Santa Maria dell’Anima (biblioteca)\, Via della Pace\, 20\, Roma
CATEGORIES:Literatur
ATTACH;FMTTYPE=image/jpeg:https://www.austriacult.roma.it/wp-content/uploads/2016/11/Lombardi.jpg
END:VEVENT
END:VCALENDAR