BEGIN:VCALENDAR
VERSION:2.0
PRODID:-//Forum Austriaco di Cultura Roma - ECPv5.12.4//NONSGML v1.0//EN
CALSCALE:GREGORIAN
METHOD:PUBLISH
X-WR-CALNAME:Forum Austriaco di Cultura Roma
X-ORIGINAL-URL:https://www.austriacult.roma.it/de
X-WR-CALDESC:Events for Forum Austriaco di Cultura Roma
BEGIN:VTIMEZONE
TZID:Europe/Berlin
BEGIN:DAYLIGHT
TZOFFSETFROM:+0100
TZOFFSETTO:+0200
TZNAME:CEST
DTSTART:20260329T010000
END:DAYLIGHT
BEGIN:STANDARD
TZOFFSETFROM:+0200
TZOFFSETTO:+0100
TZNAME:CET
DTSTART:20261025T010000
END:STANDARD
END:VTIMEZONE
BEGIN:VEVENT
DTSTART;TZID=Europe/Berlin:20260321T190000
DTEND;TZID=Europe/Berlin:20260321T190000
DTSTAMP:20260419T223355
CREATED:20251223T115607Z
LAST-MODIFIED:20260113T085324Z
UID:25075-1774119600-1774119600@www.austriacult.roma.it
SUMMARY:REDEFUSE | Gertrude Moser-Wagner
DESCRIPTION:Katalogpräsentation\, mit einem Text von Peter Zawrel \nEine Lava-Bombe in den Händen halten. Eine andere aufhalten. Die Begegnung mit einer riesigen Kugel am Vulkan Ätna hat die Wiener Bildhauerin inspiriert\, sich in ihrer Arbeit mit der Wahrnehmung instabiler Welten in früheren Werken auseinanderzusetzen. Dabei hat sie jedoch konsequent jede kriegerische Bedeutung des Begriffs „Bombe“ in Frage gestellt. REDEFUSE (Wieder entschärfen. Ablehnen). Das Projekt\, das sich auf den Ätna und Catania konzentriert\, hat als Fokus die Idee der vulkanischen Bombe\, die als politische und soziale Metapher umgesetzt wird\, etwa durch eine performative Handlung\, Skulptur. Klangforschung vor Ort\, mit musikalischen Interferenzen in einem Soundscape von Josef Reiter („Stabile Unruhe“)\, das den Atem und das Geräusch des Ätna u.a. mit der Stimme von Barbara Bittner verarbeitet\, und ein Gespräch mit dem Vulkanologen Boris Behncke (INGV Catania) einbezieht. \nPoster \n  \nGertrude Moser-Wagner \nBildhauerin\,  Konzeptkünstlerin\, geboren in der Steiermark\, lebt in Wien. Mehrere Jahre lang unterrichtete sie an der Akademie der Bildenden Künste und der Universität für angewandte Kunst in Wien. Seit 2000 hat sie viele Arbeiten im Bereich Kommunikation und Projektkunst realisiert\, mit Werken\, Forschungen\, Transpositionen und poetischen Eingriffen im öffentlichen Raum\, wie auch in Galerien und internationalen Museen. Ihre Arbeit ist interdisziplinär ausgerichtet und andockfähig. Bevorzugte Medien sind Video\, Texte\, Radio\, Installationen und Interventionen im öffentlichen Raum. Projekte der letzten Jahre gehen oft von Sprache aus und befassen sich mit Orten und mit dem Boden\, auf dem wir stehen. Aktuell: 2025-2028 FLUVIALE – along the line (Initiatorin) \nwww.moser-wagner.com \nwww.taste.at \n  \nJosef Reiter (Klangkünstler\, Komponist\, Musikvermittler) \nwww.josefreiter.net/jr/Bio.htm \n 
URL:https://www.austriacult.roma.it/de/veranstaltung/redefuse-gertrude-moser-wagner-3/
LOCATION:Catania – ON THE CONTEMPORARY\, Piazza Manganelli 16
CATEGORIES:arte contemporanea
ATTACH;FMTTYPE=image/jpeg:https://www.austriacult.roma.it/wp-content/uploads/2025/12/HP-©-Disinnescare-Bombe-di-Lava-Gertrude-Moser-Wagner.jpg
END:VEVENT
END:VCALENDAR