BEGIN:VCALENDAR
VERSION:2.0
PRODID:-//Forum Austriaco di Cultura Roma - ECPv5.12.4//NONSGML v1.0//EN
CALSCALE:GREGORIAN
METHOD:PUBLISH
X-WR-CALNAME:Forum Austriaco di Cultura Roma
X-ORIGINAL-URL:https://www.austriacult.roma.it/de
X-WR-CALDESC:Events for Forum Austriaco di Cultura Roma
BEGIN:VTIMEZONE
TZID:Europe/Berlin
BEGIN:DAYLIGHT
TZOFFSETFROM:+0100
TZOFFSETTO:+0200
TZNAME:CEST
DTSTART:20150329T010000
END:DAYLIGHT
BEGIN:STANDARD
TZOFFSETFROM:+0200
TZOFFSETTO:+0100
TZNAME:CET
DTSTART:20151025T010000
END:STANDARD
END:VTIMEZONE
BEGIN:VEVENT
DTSTART;TZID=Europe/Berlin:20151008T200000
DTEND;TZID=Europe/Berlin:20151008T220000
DTSTAMP:20260420T193536
CREATED:20151001T133621Z
LAST-MODIFIED:20151007T085226Z
UID:2875-1444334400-1444341600@www.austriacult.roma.it
SUMMARY:Omaggio a Vienna – Elena Denisova (violino) e Alexei Kornienko (pianoforte)
DESCRIPTION:Il concerto proposto da Elena Denisova e Alexei Kornienko vuole essere un omaggio alla città di Vienna. In programma componimenti di Franz Schubert\, Ludwig van Beethoven e Fritz Kreisler\, come anche le partiture contemporanee di Maximilian Kreuz e Dieter Kaufmann. Duecento anni di musica in cui il valzer\, scelto per accompagnare l’attività politica del Congresso di Vienna\, mantiene una posizione di spicco. \nElena Denisova (violino) inizia la propria carriera nel 1990 dopo gli studi al Conservatorio Tchaikovsky di Mosca. Si esibisce con importanti orchestre del calibro della Royal Philharmonic Orchestra London\, e prende parte a numerosi festival e a prestigiosi concerti\, come la serie al Musikverein di Vienna. Fonda ensemble e associazioni musicali e dal 2002 dirige il WoertherSee Classics Festival. \nAlexei Kornienko (pianoforte) studia pianoforte al conservatorio Tchaikovsky di Mosca e direzione d’orchestra al conservatorio di Cracovia. Premiato come pianista al concorso Rachmaninoff di Mosca\, è in Austria dal 1990\, è noto come giurato nei concorsi di musica e per la sua attività didattica al Kärntner Landeskonservatorium.
URL:https://www.austriacult.roma.it/de/veranstaltung/omaggio-a-vienna-elena-denisova-violino-e-alexei-kornienko-pianoforte/
LOCATION:Rom – Österreichisches Kulturforum\, Viale Bruno Buozzi 113\, 00197
ATTACH;FMTTYPE=image/jpeg:https://www.austriacult.roma.it/wp-content/uploads/2015/10/denisova.jpg
ORGANIZER;CN="Forum%20Austriaco%20di%20Cultura%20Roma":MAILTO:rom-kf@bmeia.gv.at
END:VEVENT
END:VCALENDAR