BEGIN:VCALENDAR
VERSION:2.0
PRODID:-//Forum Austriaco di Cultura Roma - ECPv5.12.4//NONSGML v1.0//EN
CALSCALE:GREGORIAN
METHOD:PUBLISH
X-WR-CALNAME:Forum Austriaco di Cultura Roma
X-ORIGINAL-URL:https://www.austriacult.roma.it/de
X-WR-CALDESC:Events for Forum Austriaco di Cultura Roma
BEGIN:VTIMEZONE
TZID:Europe/Berlin
BEGIN:DAYLIGHT
TZOFFSETFROM:+0100
TZOFFSETTO:+0200
TZNAME:CEST
DTSTART:20230326T010000
END:DAYLIGHT
BEGIN:STANDARD
TZOFFSETFROM:+0200
TZOFFSETTO:+0100
TZNAME:CET
DTSTART:20231029T010000
END:STANDARD
END:VTIMEZONE
BEGIN:VEVENT
DTSTART;TZID=Europe/Berlin:20230227T163000
DTEND;TZID=Europe/Berlin:20230227T163000
DTSTAMP:20260421T154115
CREATED:20230214T152657Z
LAST-MODIFIED:20230216T132849Z
UID:12878-1677515400-1677515400@www.austriacult.roma.it
SUMMARY:New Boundaries. Public space towards a sustainable urban environment
DESCRIPTION:Leider ist der Eintrag nur auf Italiano verfügbar. Der Inhalt wird unten in einer verfügbaren Sprache angezeigt. Klicken Sie auf den Link\, um die aktuelle Sprache zu ändern. \nTutte informazione
URL:https://www.austriacult.roma.it/de/veranstaltung/new-boundaries-public-space-towards-a-sustainable-urban-environment/
LOCATION:Rom – PDTA La Sapienza\, Via Flaminia 72
CATEGORIES:Architektur
ATTACH;FMTTYPE=image/png:https://www.austriacult.roma.it/wp-content/uploads/2023/02/Bauhaus.png
END:VEVENT
END:VCALENDAR