BEGIN:VCALENDAR
VERSION:2.0
PRODID:-//Forum Austriaco di Cultura Roma - ECPv5.12.4//NONSGML v1.0//EN
CALSCALE:GREGORIAN
METHOD:PUBLISH
X-WR-CALNAME:Forum Austriaco di Cultura Roma
X-ORIGINAL-URL:https://www.austriacult.roma.it/de
X-WR-CALDESC:Events for Forum Austriaco di Cultura Roma
BEGIN:VTIMEZONE
TZID:Europe/Berlin
BEGIN:DAYLIGHT
TZOFFSETFROM:+0100
TZOFFSETTO:+0200
TZNAME:CEST
DTSTART:20150329T010000
END:DAYLIGHT
BEGIN:STANDARD
TZOFFSETFROM:+0200
TZOFFSETTO:+0100
TZNAME:CET
DTSTART:20151025T010000
END:STANDARD
END:VTIMEZONE
BEGIN:VEVENT
DTSTART;VALUE=DATE:20150112
DTEND;VALUE=DATE:20150213
DTSTAMP:20260420T134654
CREATED:20150109T130535Z
LAST-MODIFIED:20150112T165749Z
UID:2186-1421020800-1423785599@www.austriacult.roma.it
SUMMARY:Mosaico come arte contemporanea - mostra
DESCRIPTION:Inaugurazione mostra: Lunedì 12 gennaio 2015\, ore 19.00\nMostra: 12 gennaio – 12 febbraio 2015\, tutti i giorni ore 18.00-20.30 \nInaugura il 12 gennaio a Grottaglie\, in provincia di Taranto\, la terza tappa italiana del progetto itinerante sul mosaico contemporaneo curato dalla Mag. Edda Mally. \nIl progetto nasce dalla grande eco che ha avuto l’originaria mostra sul mosaico contemporaneo tenutasi a Vienna nel maggio 2014. \nIn occasione dell’esposizione viennese\, patrocinata dalla Commissione Europea\, la direzione della mostra aveva invitato 30 mosaicisti di fama internazionale\, cui sono stati affiancati altrettanti artisti scelti dalla giuria scientifica\, fra le oltre cento domande pervenute da tutto il mondo. L’esposizione\, allestita presso il Centro di Architettura di Vienna\, nella Sala Podium\, ha riscosso un particolare successo di pubblico che ha potuto ammirare opera provenienti da 27 paesi. \nForti dell’esperienza Viennese\, la prima di questo genere in Europa\, è stato sviluppato un nuovo progetto: una mostra itinerante che viaggerà tra vari paesi Europei. \n“La nostra intenzione è di estendere la mostra e arricchirla delle opere musive del paese ospitante per sottolinearne il genius loci.” Così la curatrice della mostra\, Edda Mally\, che continua “Il mosaico artistico contemporaneo comprende un gran numero di moderne forme espressive\, che spaziano da opere di collage e rilievo\, sculture a mosaico e oggetti fatti con diversi materiali\, fino a installazioni\, performance e video.\nLa particolarità di questa mostra è racchiusa nel fatto che tutti i lavori esposti sono stati creati dagli stessi artisti. All’interno della mostra\, una rassegna di poster mostra l’utilizzo del mosaico contemporaneo sia nell’ambito dell´architettura\, che degli spazi pubblici.” \nLa mostra di Grottaglie\, sostenuta dal Forum Austriaco di Cultura Roma\, verrà inaugurata alla presenza della Dott.ssa Maria Pia Ettorre\, Assessore alla cultura e alla pubblica istruzione\, e della curatrice del progetto\, Mag. Edda Mally\, con la collaborazione particolare dell’architetto Ciro Masella. \n \norario di apertura:\ntutti i giorni dalle ore 18.00 alle ore 20.30 / la mostra sarà aperta la mattina su prenotazione / rivolgersi allo IAT (ufficio turistico)\, Grottaglie (TA)\nTel: 099.562 3866 / www. grottaglieturismo.it
URL:https://www.austriacult.roma.it/de/veranstaltung/mosaico-come-arte-contemporanea-mostra/
LOCATION:Pinacoteca Palazzo De Felice\, Piazza S. Lucia\, Grottaglie\, 74023
CATEGORIES:Ausstellung
ATTACH;FMTTYPE=image/jpeg:https://www.austriacult.roma.it/wp-content/uploads/2015/01/terlizziopere-di-fernanda-tollemeto-italiasinistra-e-audrius-tamosaitis-lituaniadestra.jpg
END:VEVENT
END:VCALENDAR