BEGIN:VCALENDAR
VERSION:2.0
PRODID:-//Forum Austriaco di Cultura Roma - ECPv5.12.4//NONSGML v1.0//EN
CALSCALE:GREGORIAN
METHOD:PUBLISH
X-WR-CALNAME:Forum Austriaco di Cultura Roma
X-ORIGINAL-URL:https://www.austriacult.roma.it/de
X-WR-CALDESC:Events for Forum Austriaco di Cultura Roma
BEGIN:VTIMEZONE
TZID:Europe/Berlin
BEGIN:DAYLIGHT
TZOFFSETFROM:+0100
TZOFFSETTO:+0200
TZNAME:CEST
DTSTART:20240331T010000
END:DAYLIGHT
BEGIN:STANDARD
TZOFFSETFROM:+0200
TZOFFSETTO:+0100
TZNAME:CET
DTSTART:20241027T010000
END:STANDARD
END:VTIMEZONE
BEGIN:VEVENT
DTSTART;TZID=Europe/Berlin:20240625T203000
DTEND;TZID=Europe/Berlin:20240625T203000
DTSTAMP:20260421T133410
CREATED:20240607T103525Z
LAST-MODIFIED:20240610T141218Z
UID:18645-1719347400-1719347400@www.austriacult.roma.it
SUMMARY:MIT EINEM TIGER SCHLAFEN
DESCRIPTION:MIT EINEM TIGER SCHLAFEN  \n(2024\, 107 min.) Regie: Anja Salomonowitz\nmit Birgit Minichmayr\, Johanna Orsini-Rosenberg \nIn deutscher Originalsprache mit italienischen Untertiteln. \nBegabtes Kind\, verlassene Tochter\, entschlossene Frau\, einsame Künstlerin\, Erforscherin innerer Welten\, gefeierte Malerin. Der Film MIT EINEM TIGER SCHLAFEN von Anja Salomonowitz ist ein poetisches Portrait der österreichischen Malerin Maria Lassnig (Birgit Minichmayr). Ein Film über ihre Suche nach ihrem ganz persönlichen\, künstlerischen Ausdruck\, ihren Kampf in der männlichen Kunstwelt\, ihr körperliches Ringen um ihre Malerei\, in der sie ihren inneren Schmerz auf die Leinwand bringt. Und dann auch ein Film über ihren großen künstlerischen Erfolg. \nVor dem Film Publikumsgespräch mit Regisseurin Anja Salomonowitz. \nProgramm Unter den Sternen Österreichs \n  \nFreier Eintritt nach Voranmeldung an prenotazione.forumaustriaco@gmail.com unter Angabe von Name\, Datum und Film.  \nDie Anmeldungen werden bis um 12 Uhr des Aufführungstages in der Reihenfolge ihres Eintreffens und nach Verfügbarkeit der Plätze bearbeitet. Gültig nur mit Bestätigungsmail. \n  \n 
URL:https://www.austriacult.roma.it/de/veranstaltung/mit-einem-tiger-schlafen/
LOCATION:Rom – ÖSTERREICHISCHES KULTURFORUM\, Viale Bruno Buozzi 113
CATEGORIES:Film,Programm
ATTACH;FMTTYPE=image/jpeg:https://www.austriacult.roma.it/wp-content/uploads/2024/06/Mit-einem-Tiger-schlafen-02-HP.jpg
END:VEVENT
END:VCALENDAR