BEGIN:VCALENDAR
VERSION:2.0
PRODID:-//Forum Austriaco di Cultura Roma - ECPv5.12.4//NONSGML v1.0//EN
CALSCALE:GREGORIAN
METHOD:PUBLISH
X-WR-CALNAME:Forum Austriaco di Cultura Roma
X-ORIGINAL-URL:https://www.austriacult.roma.it/de
X-WR-CALDESC:Events for Forum Austriaco di Cultura Roma
BEGIN:VTIMEZONE
TZID:Europe/Berlin
BEGIN:DAYLIGHT
TZOFFSETFROM:+0100
TZOFFSETTO:+0200
TZNAME:CEST
DTSTART:20210328T010000
END:DAYLIGHT
BEGIN:STANDARD
TZOFFSETFROM:+0200
TZOFFSETTO:+0100
TZNAME:CET
DTSTART:20211031T010000
END:STANDARD
END:VTIMEZONE
BEGIN:VEVENT
DTSTART;VALUE=DATE:20210510
DTEND;VALUE=DATE:20210525
DTSTAMP:20260420T102121
CREATED:20210415T111515Z
LAST-MODIFIED:20210510T141500Z
UID:10254-1620604800-1621900799@www.austriacult.roma.it
SUMMARY:MEZZ’ORA CON… Josef Aschbacher
DESCRIPTION:Gast in der sechsten Folge von MEZZ’ORA CON… ist Josef Aschbacher\, seit März 2021 Generaldirektor der Europäischen Weltraumorganisation ESA. Zuvor war er Leiter des Zentrums der ESA für Erdbeobachtung (ESRIN) in Frascati bei Rom.  \nJosef Aschbacher wurde in Österreich geboren. Er studierte an der Universität Innsbruck\, wo er Master- und Doktorabschlüsse in Naturwissenschaften erwarb. Er blickt auf über drei Jahrzehnte Erfahrung mit der Arbeit in internationalen Organisationen zurück\, unter anderem bei der ESA\, der Europäischen Kommission\, der österreichischen Agentur für Luft- und Raumfahrt sowie im Asian Institute of Technology.
URL:https://www.austriacult.roma.it/de/veranstaltung/mezzora-con-josef-aschbacher/
LOCATION:#AustriaKulturInternational #AustriaKulturDigital
ATTACH;FMTTYPE=image/jpeg:https://www.austriacult.roma.it/wp-content/uploads/2021/04/50423.jpg
END:VEVENT
END:VCALENDAR