BEGIN:VCALENDAR
VERSION:2.0
PRODID:-//Forum Austriaco di Cultura Roma - ECPv5.12.4//NONSGML v1.0//EN
CALSCALE:GREGORIAN
METHOD:PUBLISH
X-WR-CALNAME:Forum Austriaco di Cultura Roma
X-ORIGINAL-URL:https://www.austriacult.roma.it/de
X-WR-CALDESC:Events for Forum Austriaco di Cultura Roma
BEGIN:VTIMEZONE
TZID:Europe/Berlin
BEGIN:DAYLIGHT
TZOFFSETFROM:+0100
TZOFFSETTO:+0200
TZNAME:CEST
DTSTART:20260329T010000
END:DAYLIGHT
BEGIN:STANDARD
TZOFFSETFROM:+0200
TZOFFSETTO:+0100
TZNAME:CET
DTSTART:20261025T010000
END:STANDARD
END:VTIMEZONE
BEGIN:VEVENT
DTSTART;TZID=Europe/Berlin:20260227T200000
DTEND;TZID=Europe/Berlin:20260227T200000
DTSTAMP:20260421T103851
CREATED:20260218T132202Z
LAST-MODIFIED:20260224T154033Z
UID:25361-1772222400-1772222400@www.austriacult.roma.it
SUMMARY:M (Eine Stadt sucht einen Mörder) | Fritz Lang
DESCRIPTION:M (EINE STADT SUCHT EINEN MÖRDER) \n(M\, Deutschland 1931) \nvon Fritz Lang\, mit Peter Lorre\, Gustaf Gründgens\, Rudolf Blummer \ns/w\, Dauer: 110’\, 33mm OV itU \n  \nEin Serienmörder terrorisiert eine Stadt so sehr\, dass Polizei und Kriminelle ihre Kräfte vereinen\, um ihn zu stoppen. Mit seinem ersten Tonfilm legt Lang die Grundlagen des modernen Thrillers\, zeichnet dabei aber auch das Porträt einer Gesellschaft zwischen Paranoia\, Grausamkeit und Selbstjustiz\, kurz vor dem Aufkommen des Nationalsozialismus. \nVollständiges Programm \n  \n  \nINFORMATIONEN \nPalazzo Esposizioni Roma – Kinosaal \nEingang über die Treppe von Via Milano 9 a\, Rom \nEintritt Frei\, solange Plätze verfügbar sind – Reservierung empfohlen \nReservierungen über die italienische Version der folgenden Website www.palazzoesposizioniroma.it ab 9.00 Uhr am Vortag der gewünschten Vorführung bis zwei Stunden vor Vorstellungsbeginn. \nNach erfolgter Reservierung bitten wir Sie\, mindestens 10 Minuten vor Beginn der Vorführung zu erscheinen\, da andernfalls Ihr Platz an am Eingang wartendes Publikum vergeben wird. \nFalls Sie doch nicht kommen können\, bitte erinnern Sie sich\, die Reservierung in Ihrem persönlichen Bereich auf der Website zu stornieren\, um anderen Personen die Teilnahme zu ermöglichen. Sollten online alle Plätze ausverkauft sein\, besteht vor Vorstellungsbeginn die Möglichkeit\, durch Nichterscheinen oder Stornierungen frei gewordene Plätze zu erhalten.
URL:https://www.austriacult.roma.it/de/veranstaltung/m-il-mostro-di-dusseldorf-fritz-lang/
LOCATION:Rom – PALAZZO ESPOSIZIONI ROMA (Kinosaal)\, Treppe von via Milano 9a
CATEGORIES:Film
ATTACH;FMTTYPE=image/jpeg:https://www.austriacult.roma.it/wp-content/uploads/2026/02/HP-M-03.jpg
END:VEVENT
END:VCALENDAR