BEGIN:VCALENDAR
VERSION:2.0
PRODID:-//Forum Austriaco di Cultura Roma - ECPv5.12.4//NONSGML v1.0//EN
CALSCALE:GREGORIAN
METHOD:PUBLISH
X-WR-CALNAME:Forum Austriaco di Cultura Roma
X-ORIGINAL-URL:https://www.austriacult.roma.it/de
X-WR-CALDESC:Events for Forum Austriaco di Cultura Roma
BEGIN:VTIMEZONE
TZID:Europe/Berlin
BEGIN:DAYLIGHT
TZOFFSETFROM:+0100
TZOFFSETTO:+0200
TZNAME:CEST
DTSTART:20210328T010000
END:DAYLIGHT
BEGIN:STANDARD
TZOFFSETFROM:+0200
TZOFFSETTO:+0100
TZNAME:CET
DTSTART:20211031T010000
END:STANDARD
END:VTIMEZONE
BEGIN:VEVENT
DTSTART;VALUE=DATE:20210426
DTEND;VALUE=DATE:20210526
DTSTAMP:20260422T163800
CREATED:20210423T124915Z
LAST-MODIFIED:20210423T124932Z
UID:10280-1619395200-1621987199@www.austriacult.roma.it
SUMMARY:Ludwig Wittgenstein: Die Tractatus Odyssee
DESCRIPTION:Vor 100 Jahren erschien die erste Fassung des Tractatus logico-philosophicus\, das Hauptwerk des österreichischen Philosoph Ludwig Wittgenstein (26. April 1889\, Wien – 29. April 1951\, Cambridge)\, dessen Todestag sich heuer zum 70. Mal jährt. Eine Online-Ausstellung zeichnet die Entstehungsgeschichte des Tractatus\, den Wittgenstein zum Teil während seines mehrmonatigen Aufenthalts im Gefangenenlager in Cassino im Anschluss an den I. Weltkrieg geschrieben hat\, nach. \nZur Online-Ausstellung: LINK https://online-exhibitions.at/wittgenstein/
URL:https://www.austriacult.roma.it/de/veranstaltung/ludwig-wittgenstein-die-tractatus-odyssee/
LOCATION:#AustriaKulturInternational #AustriaKulturDigital
CATEGORIES:Ausstellung,Online
ATTACH;FMTTYPE=image/jpeg:https://www.austriacult.roma.it/wp-content/uploads/2021/04/Wittgenstein.jpg
END:VEVENT
END:VCALENDAR