BEGIN:VCALENDAR
VERSION:2.0
PRODID:-//Forum Austriaco di Cultura Roma - ECPv5.12.4//NONSGML v1.0//EN
CALSCALE:GREGORIAN
METHOD:PUBLISH
X-WR-CALNAME:Forum Austriaco di Cultura Roma
X-ORIGINAL-URL:https://www.austriacult.roma.it/de
X-WR-CALDESC:Events for Forum Austriaco di Cultura Roma
BEGIN:VTIMEZONE
TZID:Europe/Berlin
BEGIN:DAYLIGHT
TZOFFSETFROM:+0100
TZOFFSETTO:+0200
TZNAME:CEST
DTSTART:20200329T010000
END:DAYLIGHT
BEGIN:STANDARD
TZOFFSETFROM:+0200
TZOFFSETTO:+0100
TZNAME:CET
DTSTART:20201025T010000
END:STANDARD
END:VTIMEZONE
BEGIN:VEVENT
DTSTART;TZID=Europe/Berlin:20200709T210000
DTEND;TZID=Europe/Berlin:20200709T210000
DTSTAMP:20260421T185852
CREATED:20200615T121806Z
LAST-MODIFIED:20200708T102736Z
UID:8848-1594328400-1594328400@www.austriacult.roma.it
SUMMARY:LITTLE JOE
DESCRIPTION:Regie: Jessica Hausner. Mit Emily Beecham und Ben Whishaw\n2019\, 100 min.\, engl. Originalsprache mit ital. Untertiteln \nAlice ist Alleinerzieherin und leidenschaftliche Wissenschaftlerin im Bereich der Grünen Gentechnik. Als Pflanzenzüchterin in einer auf Zierpflanzen spezialisierten Firma entwickelt sie eine neue Spezies\, die nicht nur besonders schön ist\, sondern auch besonders gut riecht. Wenn man die Pflanze aufmerksam pflegt\, warm hält und zu ihr spricht\, entwickelt sie einen therapeutischen Effekt: die Blume macht glücklich. Unerlaubterweise bringt Alice eine der Blumen als Geschenk für ihren Teenager-Sohn Joe mit nach Hause. Sie nennen die Pflanze „Little Joe“ – aber indem die Blume wächst und gedeiht\, wächst ebenso Alices Verdacht\, dass diese von ihr geschaffene purpurrote Blume nicht so harmlos ist\, wie ihr Spitzname vermuten lässt. \nTRAILER \nDownload flyer_web(Italienisch)\nDownload Pressemitteilung (Italienisch)  \n  \nEINTRITT nur mit ANMELDUNG an rom-kf@bmeia.gv.at \nBitte geben Sie Vor- und Nachnamen (maximal 2 Besucher) und den/die gewünschten Film/e an. Anmeldefrist bis 12.00 Uhr des Vorführtages.\nDie Anmeldungen werden in der Reihenfolge ihres Eintreffens berücksichtigt und sind erst gültig\, sobald sie durch ein Mail des KF bestätigt werden.   \nZUGANGSMODALITÄTEN \nMaskenpflicht am Eingang; Temperaturmessung – kein Eintritt über 37\,5° C.; Mindestabstand von 1 Meter zu anderen Besuchern. \n 
URL:https://www.austriacult.roma.it/de/veranstaltung/little-joe/
LOCATION:Rom – Österreichisches Kulturforum\, Viale Bruno Buozzi 113\, 00197
CATEGORIES:Film
ATTACH;FMTTYPE=image/jpeg:https://www.austriacult.roma.it/wp-content/uploads/2020/06/Little-Joe-03.jpg
END:VEVENT
END:VCALENDAR