BEGIN:VCALENDAR
VERSION:2.0
PRODID:-//Forum Austriaco di Cultura Roma - ECPv5.12.4//NONSGML v1.0//EN
CALSCALE:GREGORIAN
METHOD:PUBLISH
X-WR-CALNAME:Forum Austriaco di Cultura Roma
X-ORIGINAL-URL:https://www.austriacult.roma.it/de
X-WR-CALDESC:Events for Forum Austriaco di Cultura Roma
BEGIN:VTIMEZONE
TZID:Europe/Berlin
BEGIN:DAYLIGHT
TZOFFSETFROM:+0100
TZOFFSETTO:+0200
TZNAME:CEST
DTSTART:20200329T010000
END:DAYLIGHT
BEGIN:STANDARD
TZOFFSETFROM:+0200
TZOFFSETTO:+0100
TZNAME:CET
DTSTART:20201025T010000
END:STANDARD
END:VTIMEZONE
BEGIN:VEVENT
DTSTART;TZID=Europe/Berlin:20200528T180000
DTEND;TZID=Europe/Berlin:20200604T180000
DTSTAMP:20260421T214523
CREATED:20200429T072031Z
LAST-MODIFIED:20200528T140507Z
UID:8489-1590688800-1591293600@www.austriacult.roma.it
SUMMARY:INSIEME | ERSTES WIENER HEIMORGELORCHESTER
DESCRIPTION:Die Band verschreibt sich seit 1994 ganz den synthetischen Klängen kleiner\, billiger consumer keyboards der Marken Casio\, Bontempi und Yahama und entwickelt aus dem LoFi-Sound dieser Synthesizer eigene Pop-Songs mit deutschsprachigen Texten. \nDie Beschränkungen zu Zeiten des Corona-Virus nötigen die Musiker\, dorthin zurückzukehren\, wo alles begonnen hat: ins Wohnzimmer. Von dort aus geben die Vier einen kleinen Überblick über das bisherige Schaffen: Eigenkompositionen\, Vertonungen berühmter Gedichte und das Cover eines Hits aus den 80er-Jahren: Move Your Body Close to Me. Eine Aufforderung mit Augenzwinkern. \nprogramma \n \nDas EWHO sind: Daniel Wisser\, Thomas Pfeffer\, Florian Wisser\, Jürgen Plank. Sie haben bisher acht Longplayer-Alben und zahlreiche Singles produziert und mehr als 500 Auftritte in Clubs\, bei Festivals\, auf Bühnen und in Literaturhäusern absolviert. Die Band ist aber auch durch Theater- und Filmmusik bekannt geworden. Das EWHO komponierte und spielte von 2004 bis 2009 die Musik zu Peter Handkes Untertagsblues am Wiener Burgtheater\, zur Stummfilmreihe In the Air Tonight der Wiener Festwochen\, zum Symposion HiTecLoTec beim steirischen herbst u.v.a.\n2009 gewann das EWHO den Bandwettbewerb FM4Protestsongcontest mit dem Lied “Widerstand ist Ohm”. Mit dem Album “es wird schön gewesen sein” tourte die Band 2009 und 2010 durch Österreich\, Deutschland und die Schweiz.\nDie Songtexte der Band werden seit vielen Jahren als literarisch eigenständige Werke bezeichnet. Zum zwanzigjährigen Bestehen der Band erschien das Buch “Widerstand ist Ohm”\, das alle Songtexte sowie Kommentare zur Musik des EWHO von Austrofred\, Edek Bartz und Johannes Grenzfurthner beinhaltet.\n2016 erschien “Rund” mit zwei Vertonungen von Texten des Schriftstellers Clemens J. Setz\, 2018 das stark akklamierte Album “Die Letten werden die Esten” sein. Im Jänner 2019 wurde “anderwo” veröffentlicht\, das Album mit Vertonungen von Texten deutschsprachiger Dichterinnen und Dichter.  \nBand \n \n  \n  \n 
URL:https://www.austriacult.roma.it/de/veranstaltung/insieme-erstes-wiener-heimorgelorchester/
LOCATION:#ConcertiSulSofà #AustriaKulturDigital
CATEGORIES:Musik
ATTACH;FMTTYPE=image/jpeg:https://www.austriacult.roma.it/wp-content/uploads/2020/04/Foto-2-c-johannes-zinner.jpg
END:VEVENT
END:VCALENDAR