BEGIN:VCALENDAR
VERSION:2.0
PRODID:-//Forum Austriaco di Cultura Roma - ECPv5.12.4//NONSGML v1.0//EN
CALSCALE:GREGORIAN
METHOD:PUBLISH
X-WR-CALNAME:Forum Austriaco di Cultura Roma
X-ORIGINAL-URL:https://www.austriacult.roma.it/de
X-WR-CALDESC:Events for Forum Austriaco di Cultura Roma
BEGIN:VTIMEZONE
TZID:Europe/Berlin
BEGIN:DAYLIGHT
TZOFFSETFROM:+0100
TZOFFSETTO:+0200
TZNAME:CEST
DTSTART:20200329T010000
END:DAYLIGHT
BEGIN:STANDARD
TZOFFSETFROM:+0200
TZOFFSETTO:+0100
TZNAME:CET
DTSTART:20201025T010000
END:STANDARD
END:VTIMEZONE
BEGIN:VEVENT
DTSTART;VALUE=DATE:20200321
DTEND;VALUE=DATE:20200322
DTSTAMP:20260422T054742
CREATED:20200320T110543Z
LAST-MODIFIED:20200320T120037Z
UID:8003-1584748800-1584835199@www.austriacult.roma.it
SUMMARY:WELTTAG DER POESIE
DESCRIPTION:Wie gewohnt ruft EUNIC (das Netzwerk der europäischen Kulturinstitute in Rom) anlässlich des Welttags der Poesie Dichter aus den verschiedenen Mitgliedsländern auf\, ihre Verse in Originalsprache  vorzutragen. Die diesjährige Lesung\, die im Konservatorium Santa Cecilia in Rom stattfinden sollte\, wurde gemäß den Maßnahmen zur Verhinderung einer Ansteckung durch COVID-19 abgesagt. Daher wurde beschlossen\, die Publikation mit den Lyriken (in Originalsprache und auf Italienisch) der 15 Dichter\, die an der diesjährigen Veranstaltung teilgenommen hätten\, im Internet zu veröffentlichen. \nPublikation \nDieses Jahr wird Österreich durch Barbara Pumhösel vertreten\, mit Auszügen aus ihrem Langgedicht “Die Distanz der Ufer” (Limbus Verlag 2019)\, die von der Autorin selbst ins Italienische übersetzt wurden. \n \nBarbara Pumhösel\, geb. 1959 in Neustift bei Scheibbs\, Niederösterreich. Studium (Romanistik/ Ethnologie) in Wien\, Orléans und Florenz.  Lebt\, schreibt und übersetzt in Italien (Arnotal) und Niederösterreich (Erlauftal). Langjährige Tätigkeit in der Leseförderung. Außerdem Lektoratsarbeit und  Leitung von Lyrikwerkstätten für Kinder\, Jugendliche und Erwachsene. Mitglied des Literaturkreises PODIUM\, der IG AutorInnen und der Compagnia delle poete. Poetry Fellow der Bogliasco Foundation\, Genua. Veröffentlichung von Lyrik und Prosa in Zeitschriften und Anthologien.  Zahlreiche  Kinderbücher in italienischer Sprache (mit Übersetzungen ins Rumänische\, Griechische\, Türkische\, Chinesische und einer Neuerscheinung in Brasilien). Prosatexte in Zeitschriften und Anthologien\, Übersetzungsarbeiten. 2018 erscheint bei Launenweber in Köln  B. Pumhösels  Übersetzung von Malanotte. Stimmen in der Nacht der sizilianischen Autorin Marilina Giaquinta; 2019 die Übersetzung Malacqua von Nicola Pugliese (beide Launenweber Köln).  Preise\, u. a. Anerkennungspreis für Literatur des Landes Niederösterreich 2011\,  Premio Pippi 2012 (Bologna) und Premio  Arcipelago itaca 2016 (Lyrikpreis).  Zuletzt erschienen: Die Distanz der Ufer. Langgedicht. Limbus Verlag. Innsbruck 2019 und Ungras im Paradies. Edition Thurnhof. Horn 2019 (mit Bildern von Rainer Wolf). \n 
URL:https://www.austriacult.roma.it/de/veranstaltung/giornata-mondiale-della-poesia-2/
CATEGORIES:Poesia
ATTACH;FMTTYPE=image/jpeg:https://www.austriacult.roma.it/wp-content/uploads/2020/03/logo-frei.jpg
END:VEVENT
END:VCALENDAR