BEGIN:VCALENDAR
VERSION:2.0
PRODID:-//Forum Austriaco di Cultura Roma - ECPv5.12.4//NONSGML v1.0//EN
CALSCALE:GREGORIAN
METHOD:PUBLISH
X-WR-CALNAME:Forum Austriaco di Cultura Roma
X-ORIGINAL-URL:https://www.austriacult.roma.it/de
X-WR-CALDESC:Events for Forum Austriaco di Cultura Roma
BEGIN:VTIMEZONE
TZID:Europe/Berlin
BEGIN:DAYLIGHT
TZOFFSETFROM:+0100
TZOFFSETTO:+0200
TZNAME:CEST
DTSTART:20210328T010000
END:DAYLIGHT
BEGIN:STANDARD
TZOFFSETFROM:+0200
TZOFFSETTO:+0100
TZNAME:CET
DTSTART:20211031T010000
END:STANDARD
END:VTIMEZONE
BEGIN:VEVENT
DTSTART;VALUE=DATE:20210610
DTEND;VALUE=DATE:20211011
DTSTAMP:20260422T014516
CREATED:20210702T131806Z
LAST-MODIFIED:20210706T152255Z
UID:10685-1623283200-1633910399@www.austriacult.roma.it
SUMMARY:FRIEDL KUBELKA VOM GRÖLLER
DESCRIPTION:Das Museum MACRO zeigt von 22. Juni bis 10. Oktober in der Sektion POLIFONIA Songs of Experience eine Schau zum Werk von Friedl Kubelka vom Gröller. \nWiderspenstige Menschenbilder sind das Werkzeug der österreichischen Fotografin und Filmemacherin\, mit dem sie sich selbst und andere – oft in provokatorischem Widerspruch zwischen Intimität und Distanz – untersucht. Diesen ihren psychologischen Porträts werden die Arbeiten weiterer Künstler ganz anderer Provenienz zur Seite gestellt: Die Werke von Talia Chetrit\, Philipp Fleischmann\, Seiichi Furuya und Sophie Thun nähern sich während der Dauer der Ausstellung schrittweise dem fotografischen Oeuvre Friedl Kubelkas an. \nDen Schlusspunkt setzt eine Serie von 16 mm-Filmprojektionen\, die die Künstlerin unter ihrem Pseudonym als Regisseurin vom Göller zwischen den 60er- und 2000er-Jahren realisiert hat. Dieser Dialog über den Blick\, die Zeit und die Erkundung der menschlichen Seele wird durch die Stimmen von Friedl Kubelka selbst und Eva Sangiorgi\, der künstlerischen Leiterin der Viennale\, ergänzt.
URL:https://www.austriacult.roma.it/de/veranstaltung/friedl-kubelka-vom-groller/
LOCATION:MACRO – Via Nizza 138
CATEGORIES:Ausstellung
ATTACH;FMTTYPE=image/jpeg:https://www.austriacult.roma.it/wp-content/uploads/2021/07/Friedl_Kubelka-Das-erste-Jahresportrat-Teil-1-von-11.jpg
END:VEVENT
END:VCALENDAR