BEGIN:VCALENDAR
VERSION:2.0
PRODID:-//Forum Austriaco di Cultura Roma - ECPv5.12.4//NONSGML v1.0//EN
CALSCALE:GREGORIAN
METHOD:PUBLISH
X-WR-CALNAME:Forum Austriaco di Cultura Roma
X-ORIGINAL-URL:https://www.austriacult.roma.it/de
X-WR-CALDESC:Events for Forum Austriaco di Cultura Roma
BEGIN:VTIMEZONE
TZID:Europe/Berlin
BEGIN:DAYLIGHT
TZOFFSETFROM:+0100
TZOFFSETTO:+0200
TZNAME:CEST
DTSTART:20230326T010000
END:DAYLIGHT
BEGIN:STANDARD
TZOFFSETFROM:+0200
TZOFFSETTO:+0100
TZNAME:CET
DTSTART:20231029T010000
END:STANDARD
END:VTIMEZONE
BEGIN:VEVENT
DTSTART;TZID=Europe/Berlin:20230327T183000
DTEND;TZID=Europe/Berlin:20230327T183000
DTSTAMP:20260422T050545
CREATED:20230224T134518Z
LAST-MODIFIED:20230224T134846Z
UID:12916-1679941800-1679941800@www.austriacult.roma.it
SUMMARY:Forme dell’addio. L’ultimo Gustav Mahler. | Ernesto Napolitano
DESCRIPTION:Die Werke des österreichischen Komponisten gehören unbestritten zu den beliebtesten des frühen 20. Jahrhunderts. Besonders jene Kompositionen\, die sämtliche musikalischen Grenzen ausloten\, zeigen ihn als außergewöhnlich schöpferischen Menschen mit besonderer innovatorischer Kraft. \nSpeziell ab der 7. bis zur unvollendeten 10. Symphonie lässt sich eine vitale und kreative Entwicklung in Richtung Moderne\, Abstraktion und – mit einem Wort – in die Mitte des beginnenden Jahrhunderts feststellen.   \nAusgangspunkt der Veranstaltung ist das Buch Forme dell’addio. L’ultimo Gustav Mahler von Ernesto Napolitano (EDT\, Torino\, 2022). \nMahler\,  \nDer Abschied (aus Das Lied von der Erde) \nAnna Pennisi\, Mezzosopran (Studium an der Académie de l’Opéra national de Paris) \nMirco Roverelli\, Klavier \nPROGRAMM \n  \n 
URL:https://www.austriacult.roma.it/de/veranstaltung/forme-delladdio-lultimo-gustav-mahler-ernesto-napolitano/
LOCATION:Rom – Fondazione Marco Besso (salone)\, Largo di Torre Argentina
CATEGORIES:Musik
ATTACH;FMTTYPE=image/png:https://www.austriacult.roma.it/wp-content/uploads/2023/02/Mahler.png
END:VEVENT
END:VCALENDAR