BEGIN:VCALENDAR
VERSION:2.0
PRODID:-//Forum Austriaco di Cultura Roma - ECPv5.12.4//NONSGML v1.0//EN
CALSCALE:GREGORIAN
METHOD:PUBLISH
X-WR-CALNAME:Forum Austriaco di Cultura Roma
X-ORIGINAL-URL:https://www.austriacult.roma.it/de
X-WR-CALDESC:Events for Forum Austriaco di Cultura Roma
BEGIN:VTIMEZONE
TZID:Europe/Berlin
BEGIN:DAYLIGHT
TZOFFSETFROM:+0100
TZOFFSETTO:+0200
TZNAME:CEST
DTSTART:20210328T010000
END:DAYLIGHT
BEGIN:STANDARD
TZOFFSETFROM:+0200
TZOFFSETTO:+0100
TZNAME:CET
DTSTART:20211031T010000
END:STANDARD
END:VTIMEZONE
BEGIN:VEVENT
DTSTART;TZID=Europe/Berlin:20211215T160000
DTEND;TZID=Europe/Berlin:20211215T160000
DTSTAMP:20260421T103346
CREATED:20211126T115627Z
LAST-MODIFIED:20211129T104906Z
UID:11180-1639584000-1639584000@www.austriacult.roma.it
SUMMARY:Florian Bösel
DESCRIPTION:Der Regisseur Florian Bösel wird Österreich bei der 5. Ausgabe des Festivals Quartieri di Vita für Bildung und soziales Theater in der italienischen Region Kampanien vertreten. Geplant sind dort zwei Wochen Workshops und Theaterwerkstätten\, an denen Gruppen mit schwierigem sozialen Hintergrund teilnehmen. Insgesamt sieben Gastregisseure aus Österreich\, Belgien\, der tschechischen Republik\, Frankreich\, Deutschland\, Litauen und Spanien sind eingeladen\, mit Migranten\, benachteiligten Jugendlichen und Frauen zu arbeiten. \nDas Projekt\, das “QUARTIERI DI VITA\, Life infected with Social Theatre!” heißt\, wird von den EUNIC-Instituten\, also den europäischen Kulturinstituten\, die in Rom und Neapel tätig sind\,   und der Fondazione Campania dei Festival getragen. \nFlorian Bösel \nstudierte Soziologie und Theater-\, Film- und Medienwissenschaft an der Universität Wien  (2006–2007). 2017 diplomierte er an der Theaterwerkstatt Heidelberg in Theaterpädagogik (BuT) und unterrichtete an der “SoAk summer academy”. Seit 2019 leitet er “Gut Gebrüllt”\, ein Kulturverein für Wiener Kinder. Außerdem hält er mit “Tanzmeditation” wöchentliche Kurse für Erwachsene\, die Meditation und zeitgenössischen Tanz verbinden. Florian Bösel nahm darüber hinaus an zahlreichen psychotherapeutischen Workshops teil. In der Vergangenheit arbeitete er zudem in der Psychiatrie des Otto Wagner-Spitals in Wien und beschäftigte sich mit Kindern aus schwierigen Verhältnissen. Er ist Schlagzeuger und Boxer. \nProgramma
URL:https://www.austriacult.roma.it/de/veranstaltung/florian-bosel/
LOCATION:Teatro Civico 14 – Via F. Petrarca (Parco dei Pini) c/o Spazio X – Caserta
ATTACH;FMTTYPE=image/jpeg:https://www.austriacult.roma.it/wp-content/uploads/2021/11/mg_9756-2_38686044700_o.jpg
END:VEVENT
END:VCALENDAR