BEGIN:VCALENDAR
VERSION:2.0
PRODID:-//Forum Austriaco di Cultura Roma - ECPv5.12.4//NONSGML v1.0//EN
CALSCALE:GREGORIAN
METHOD:PUBLISH
X-WR-CALNAME:Forum Austriaco di Cultura Roma
X-ORIGINAL-URL:https://www.austriacult.roma.it/de
X-WR-CALDESC:Events for Forum Austriaco di Cultura Roma
BEGIN:VTIMEZONE
TZID:Europe/Berlin
BEGIN:DAYLIGHT
TZOFFSETFROM:+0100
TZOFFSETTO:+0200
TZNAME:CEST
DTSTART:20170326T010000
END:DAYLIGHT
BEGIN:STANDARD
TZOFFSETFROM:+0200
TZOFFSETTO:+0100
TZNAME:CET
DTSTART:20171029T010000
END:STANDARD
END:VTIMEZONE
BEGIN:VEVENT
DTSTART;TZID=Europe/Berlin:20170202T200000
DTEND;TZID=Europe/Berlin:20170202T213000
DTSTAMP:20260422T090300
CREATED:20161214T101011Z
LAST-MODIFIED:20170119T082029Z
UID:4140-1486065600-1486071000@www.austriacult.roma.it
SUMMARY:Eufonia Duo Wien
DESCRIPTION:© Eufonia Duo Wien \nIl Eufonia Duo Wien si dedica al repertorio per violino e violoncello\, una combinazione piuttosto inusuale. Con l’intento di incrementare il repertorio per la propria formazione il duo si è rivolto a rinomati compositori austriaci contemporanei\, potendo così eseguire nuove composizioni in prima assoluta. \nNel concerto di Roma\, il violino di Stephan Achenbach e il violoncello di Shamita Achenbach-König ripercorrono tre secoli di composizioni. L’omaggio ai grandi compositori del passato che si sono cimentati con una musica tanto particolare\, viene completato con un brano contemporaneo firmato nel 2010 dall’austriaco Reinhard Süss. Quest’ultima composizione\, scritta espressamente per il duo\, permette ai musicisti di esprimere al meglio le proprie capacità mostrando tanto la propria perfezione quanto l’alta sensibilità. Il proprio talento è valso al duo l’opportunità di esibirsi in Austria e in Germania\, partecipando a festival come l’internazionale Bodenseefestival\, e calcando numerosi palcoscenici\, come quello del Konzerthaus di Vienna. Fra le tante prime assolute si ricordano quelle firmate da Richard Dünser e Reinhard Süss. Fra i CD si segnalano “Duos für Violine und Cello” (2011\, VMS Zappel Music) e “Meisterwerke aus der Zeit des Barocks und der Klassik für Violine und Violoncello“ (2012\, Antes Edition/Bella Musica). \n  \nProgramma \nWolfgang A. Mozart (1756-1791) \nDuo per violino e violoncello in sol maggiore KV 423 \nAllegro \nAdagio \nRondò (Allegro) \n  \nJohann Sebastian Bach (1685-1750) \nConcerto in stile italiano BWV 971 \nTrascrizione per violino e violoncello di Vera e Norbert Hilger \nAllegro \nAndante \nPresto \n  \nReinhard Süss (*1961) \nCinque per Due per violino e violoncello \n(prima assoluta: 26.1.2010\, Vienna) \nAdagio – Allegro \nIntermezzo \nLargo \nScherzo \nAndante – Allegro  \n—- \n Alessandro Rolla (1757-1841) \nDuo per violino e violoncello in la maggiore N. 3 BI.243 \nAllegro moderato \nAndante mosso \nRondo (Allegretto mosso) \n  \nBohuslav Martinů (1890-1959) \nDuo per violino e violoncello N. 1 \nPreludium (Andante moderato) \nRondò (Allegro con brio) \n  \ncenni biografici \nStephan Achenbach (violino) studia violino presso l’università di Musica e Arti Interpretative di Vienna e prosegue gli studi sia con il Wiener Streichsextett\, che con il Wiener Altenberg-Trio. Primo Violino dei Wiener Symphoniker. Insieme al Wiener Mozart-Trio si esibisce in concerti e festival in Europa e oltreoceano\, dal 1993 al 1997. \nShamita Achenbach-König (violoncello) studia violoncello presso l’università di Musica e Arti Interpretative di Vienna\, il Wiener Konservatorium e il Mozarteum di Salisburgo\, prosegue poi la propria formazione in musica da camera con il Wiener Streichsextett e il Wiener Altenberg-Trio. Collabora con il Concert-Verein (Wiener Symphoniker) e il Radiosymphonieorchester Wien. Attività concertistica in Europa e oltreoceano con diverse formazioni da camera.
URL:https://www.austriacult.roma.it/de/veranstaltung/eufonia-duo-wien/
LOCATION:Rom – Österreichisches Kulturforum\, Viale Bruno Buozzi 113\, 00197
CATEGORIES:Musik
ATTACH;FMTTYPE=image/jpeg:https://www.austriacult.roma.it/wp-content/uploads/2016/12/Eufonia.jpg
END:VEVENT
END:VCALENDAR