BEGIN:VCALENDAR
VERSION:2.0
PRODID:-//Forum Austriaco di Cultura Roma - ECPv5.12.4//NONSGML v1.0//EN
CALSCALE:GREGORIAN
METHOD:PUBLISH
X-WR-CALNAME:Forum Austriaco di Cultura Roma
X-ORIGINAL-URL:https://www.austriacult.roma.it/de
X-WR-CALDESC:Events for Forum Austriaco di Cultura Roma
BEGIN:VTIMEZONE
TZID:Europe/Berlin
BEGIN:DAYLIGHT
TZOFFSETFROM:+0100
TZOFFSETTO:+0200
TZNAME:CEST
DTSTART:20230326T010000
END:DAYLIGHT
BEGIN:STANDARD
TZOFFSETFROM:+0200
TZOFFSETTO:+0100
TZNAME:CET
DTSTART:20231029T010000
END:STANDARD
END:VTIMEZONE
BEGIN:VEVENT
DTSTART;TZID=Europe/Berlin:20230124T183000
DTEND;TZID=Europe/Berlin:20230124T183000
DTSTAMP:20260421T205825
CREATED:20230103T142316Z
LAST-MODIFIED:20230109T150132Z
UID:12748-1674585000-1674585000@www.austriacult.roma.it
SUMMARY:Elisa Springer
DESCRIPTION:Elisa Springer (1918 Wien – 2004 Matera) berichtete bis zu ihrem Tod 2004 unermüdlich an italienischen Schulen über ihre Verfolgung durch das Naziregime: Geboren 1918 in Wien\, überlebte sie den Holocaust unter anderem dank einer Scheinehe mit einem italienischen Staatsbürger.\nIhre Geschichte\, die bisher in zwei Büchern veröffentlicht wurde\, verarbeitete Regisseurin und Schauspielerin Maria Inversi zu einer Lesung mit ausgewählten Musikstücken\, die Pianistin und Sängerin Goar Faradzhian vorträgt. In die Ausstellung führt Kuratorin Sabine Apostolo vom Jüdischen Museum Wien ein\, weiters sprechen Francesca Lopane (Fondazione Elisa Springer A-24020) und Elisa Springers Cousin Hans Bauer. \n  \nAusstellungseröffnung\nELISA SPRINGER Il silenzio eloquente della memoria\nDie Ausstellung findet in Zusammenarbeit mit dem Jüdischen Museum Wien und der Fondazione Springer A-24020 statt.\nDauer: bis 17. Februar 2023 (Mo-Fr 09.00-17.00) \n  \nLesung mit Musik\nELISA SPRINGER Il silenzio dei vivi\nKonzept und Regie: Maria Inversi\nGesang und Klavier: Goar Faradzhian \n  \nElisa Springer wurde in eine bürgerliche jüdische Familie als Tochter von Sidonia (geb. Bauer) und Richard Springer geboren und wuchs in der Strozzigasse in Wien auf. Ihr Vater und sein Schwager waren Eigentümer eines Textilgeschäfts in der Innenstadt. 1938 erlangte Elisa die Lehrbefähigung für Englisch. Nach dem sogenannten „Anschluss“ wurde das Geschäft ihres Vaters enteignet\, er selbst verhaftet und noch im selben Jahr im KZ Buchenwald ermordet. Elisa Springer und ihre Mutter wurden aus der Wohnung vertrieben. Sidonia Springer konnte zu Verwandten nach Budapest fliehen\, doch ihre Spur verliert sich 1944.\nDurch ihre 1939 mit dem Italiener Eliezer Joseph Alfassa geschlossene Ehe war Elisa Springer italienische Staatsbürgerin geworden. Ab 1940 lebte sie in Mailand und arbeitete als Übersetzerin. Sie wurde jedoch verraten\, als „Spionin“ verhaftet und misshandelt. Über Verona wurde sie im August 1944 in das Konzentrationslager Auschwitz deportiert und im Oktober 1944  ins Lager Bergen-Belsen überstellt. Elisa Springer erlebte abgemagert und an Flecktyphus erkrankt das Kriegsende und die Befreiung. Nach dem Krieg kam sie noch kurz ins zerstörte Wien und kehrte 1946 endgültig nach Italien zurück. Ihr weiteres Leben verbrachte sie in Apulien.\nErst im Alter von 68 Jahren war sie in der Lage\, ihrem einzigen Sohn Silvio von den traumatischen Erlebnissen zu erzählen. Er ermutigte sie\, ihre Erinnerungen niederzuschreiben. 1997 erschien „Il silenzio dei vivi\, all’ombra di Auschwitz\, un racconto di morte e di resurrezione“ (dt. „Das Schweigen der Lebenden. Im Schatten von Auschwitz\, eine Erzählung von Tod und Auferstehung“). In der Folge trat sie auch als Zeitzeugin in Schulen auf.  \n  \nMaria Inversi absolvierte nach ihrer Ausbildung in Schauspiel\, Fremdsprachen und Journalismus eine Weiterbildung am Theater an der Sorbonne Censier III. Regie- und Tanzstudium bei diversen Lehrern. Als Autorin und Theaterregisseurin veröffentlichte sie eine Reihe von Texten für das Theater\, dramaturgische Texte\, Lyrik und einen Roman bei Castelvecchi (2022). Sie leitet Seminare und unterrichtete an der Roma 3.  \nwww.teatroedonne-inversi.it\, www.Alfabeticomuni.it\, Facebook\, Youtube \n 
URL:https://www.austriacult.roma.it/de/veranstaltung/elisa-springer/
LOCATION:Rom – Österreichisches Kulturforum Rom\, Viale Bruno Buozzi 113\, 00197
CATEGORIES:Eröffnung
ATTACH;FMTTYPE=image/jpeg:https://www.austriacult.roma.it/wp-content/uploads/2023/01/COVER-II.jpg
END:VEVENT
END:VCALENDAR