BEGIN:VCALENDAR
VERSION:2.0
PRODID:-//Forum Austriaco di Cultura Roma - ECPv5.12.4//NONSGML v1.0//EN
CALSCALE:GREGORIAN
METHOD:PUBLISH
X-WR-CALNAME:Forum Austriaco di Cultura Roma
X-ORIGINAL-URL:https://www.austriacult.roma.it/de
X-WR-CALDESC:Events for Forum Austriaco di Cultura Roma
BEGIN:VTIMEZONE
TZID:Europe/Berlin
BEGIN:DAYLIGHT
TZOFFSETFROM:+0100
TZOFFSETTO:+0200
TZNAME:CEST
DTSTART:20260329T010000
END:DAYLIGHT
BEGIN:STANDARD
TZOFFSETFROM:+0200
TZOFFSETTO:+0100
TZNAME:CET
DTSTART:20261025T010000
END:STANDARD
END:VTIMEZONE
BEGIN:VEVENT
DTSTART;TZID=Europe/Berlin:20260318T200000
DTEND;TZID=Europe/Berlin:20260318T200000
DTSTAMP:20260421T115828
CREATED:20260305T104250Z
LAST-MODIFIED:20260310T161447Z
UID:25537-1773864000-1773864000@www.austriacult.roma.it
SUMMARY:MENSCHENJAGD | Fritz Lang
DESCRIPTION:MENSCHENJAGD \n(Man Hunt\, USA 1941) \nvon Fritz Lang\, mit Walter Pidgeon\, Joan Bennett\, George Sanders \ns/w\, Dauer: 105’\, DCP OV itU \n  \nVor dem Krieg bietet sich einem bekannten englischen Jäger die Gelegenheit\, Hitler zu töten\, allerdings scheitert er und wird von der Gestapo verfolgt. Ein ungewöhnlicher und fesselnder Noir\, in dem Lang eher moralische als politische Dilemmata inszeniert und den Spannungsbogen stets hochhält. Wunderbar sind die Verfolgungsjagd in der U-Bahn und das finale Duell. \n  \n  \n  \nVollständiges Programm \n  \nINFORMATIONEN \nPalazzo Esposizioni Roma – Kinosaal \nEingang über die Treppe von Via Milano 9 a\, Rom \nEintritt Frei\, solange Plätze verfügbar sind – Reservierung empfohlen \nReservierungen über die italienische Version der folgenden Website www.palazzoesposizioniroma.it ab 9.00 Uhr am Vortag der gewünschten Vorführung bis zwei Stunden vor Vorstellungsbeginn. \nNach erfolgter Reservierung bitten wir Sie\, mindestens 10 Minuten vor Beginn der Vorführung zu erscheinen\, da andernfalls Ihr Platz an am Eingang wartendes Publikum vergeben wird. \nFalls Sie doch nicht kommen können\, bitte erinnern Sie sich\, die Reservierung in Ihrem persönlichen Bereich auf der Website zu stornieren\, um anderen Personen die Teilnahme zu ermöglichen. Sollten online alle Plätze ausverkauft sein\, besteht vor Vorstellungsbeginn die Möglichkeit\, durch Nichterscheinen oder Stornierungen frei gewordene Plätze zu erhalten.
URL:https://www.austriacult.roma.it/de/veranstaltung/duello-mortale-fritz-lang/
LOCATION:Rom – PALAZZO ESPOSIZIONI ROMA (Kinosaal)\, Treppe von Via Milano 9 a
CATEGORIES:Film
ATTACH;FMTTYPE=image/jpeg:https://www.austriacult.roma.it/wp-content/uploads/2026/03/HP-Duello-mortale.jpg
END:VEVENT
END:VCALENDAR