BEGIN:VCALENDAR
VERSION:2.0
PRODID:-//Forum Austriaco di Cultura Roma - ECPv5.12.4//NONSGML v1.0//EN
CALSCALE:GREGORIAN
METHOD:PUBLISH
X-WR-CALNAME:Forum Austriaco di Cultura Roma
X-ORIGINAL-URL:https://www.austriacult.roma.it/de
X-WR-CALDESC:Events for Forum Austriaco di Cultura Roma
BEGIN:VTIMEZONE
TZID:Europe/Berlin
BEGIN:DAYLIGHT
TZOFFSETFROM:+0100
TZOFFSETTO:+0200
TZNAME:CEST
DTSTART:20210328T010000
END:DAYLIGHT
BEGIN:STANDARD
TZOFFSETFROM:+0200
TZOFFSETTO:+0100
TZNAME:CET
DTSTART:20211031T010000
END:STANDARD
END:VTIMEZONE
BEGIN:VEVENT
DTSTART;TZID=Europe/Berlin:20210507T160000
DTEND;TZID=Europe/Berlin:20210507T190000
DTSTAMP:20260422T102453
CREATED:20210504T120143Z
LAST-MODIFIED:20210506T155040Z
UID:10333-1620403200-1620414000@www.austriacult.roma.it
SUMMARY:DUE | Kazuna Taguchi
DESCRIPTION:Mit der Finissage am 7. Mai 2021 endet die Einzelausstellung von Werken Kazuna Taguchis in der Galerie Ermes Ermes  in Rom. Die Arbeiten der Wiener Künstlerin mit japanischen Wurzeln sind außergewöhnlich\, weil sie eine Position zwischen Fotografie und Malerei einnehmen. Zu sehen ist eine Serie neuer Arbeiten aus dem Jahr 2020. \nKazuna Taguchi (*Tokio\, 1979) lebt und arbeitet in Wien. Sie studierte an der Tokyo University of the Arts\, ihre Arbeiten wurden bisher in folgenden Museen gezeigt: Why do birds suddenly appear?\, Galerie Martin Janda\, Wien (2020); The Unremarkableness of Disobedient Desire\, Lucie Drdova Gallery\, Praga (2020); Autumn Sale of Dreams and Love\, Significant Other\, Wien\, (2019); Is there something I should know\, Vinifero\, Wien (2019); Reading Images: The Time of photography\, Tokyo Photographic Art Museum\, Tokio (2019); And\, Then\, Museum Haus Kasuya\, Kanagawa\, (2019); The Eye of Eurydice\, Void+\, Tokio\, (2019); Retrospective of museum collection: 2014→1890\, The National Museum of Art\, Osaka\, Osaka\, (2018); Wienfluss\, Museum Haus Kasuya\, Kanagawa (2017); Sleeping Beauty\, Hiroshima City Museum of Contemporary Art\, Hiroshima (2014); The Crimson Sun\, ShugoArts\, Tokio (2013); Somewhere Between Me and This World- Japanese Contemporary Photography\, Tokyo Metropolitan Museum of Photography\,Tokio (2012); Pandemonium\, XYZ Collective\, Tokio (2012). \nwww.kazunataguchi.com/cv.html \nermes-ermes.com/upcoming \nCoronavirus – Hinweise zu Ihrem Besuch:\nFFP2-Masken-Pflicht\, 2 Meter Mindestabstand zu den Mitarbeitern der Galerie und anderen Besuchern\, Angabe von Name und Adresse für das Contacttracing.\nEs dürfen sich max. 2 Besucher in der Galerie aufhalten\, bitte warten Sie in diesem Fall vor der Galerie.\nBitte nehmen Sie im Fall von Covid-Symtomen oder nach einem Kontakt zu Covid-Kranken von einem Besuch der Galerie Abstand. \n 
URL:https://www.austriacult.roma.it/de/veranstaltung/due-kazuna-taguchi-2/
LOCATION:Rom – Galerie ERMES-ERMES\, Via dei Banchi Vecchi 16
ATTACH;FMTTYPE=image/jpeg:https://www.austriacult.roma.it/wp-content/uploads/2021/02/foto-c-siehe-Bildvermerk.jpg
END:VEVENT
END:VCALENDAR