BEGIN:VCALENDAR
VERSION:2.0
PRODID:-//Forum Austriaco di Cultura Roma - ECPv5.12.4//NONSGML v1.0//EN
CALSCALE:GREGORIAN
METHOD:PUBLISH
X-WR-CALNAME:Forum Austriaco di Cultura Roma
X-ORIGINAL-URL:https://www.austriacult.roma.it/de
X-WR-CALDESC:Events for Forum Austriaco di Cultura Roma
BEGIN:VTIMEZONE
TZID:Europe/Berlin
BEGIN:DAYLIGHT
TZOFFSETFROM:+0100
TZOFFSETTO:+0200
TZNAME:CEST
DTSTART:20220327T010000
END:DAYLIGHT
BEGIN:STANDARD
TZOFFSETFROM:+0200
TZOFFSETTO:+0100
TZNAME:CET
DTSTART:20221030T010000
END:STANDARD
END:VTIMEZONE
BEGIN:VEVENT
DTSTART;VALUE=DATE:20221118
DTEND;VALUE=DATE:20221120
DTSTAMP:20260421T193810
CREATED:20221031T153208Z
LAST-MODIFIED:20221114T145437Z
UID:12552-1668729600-1668902399@www.austriacult.roma.it
SUMMARY:Double Alienation # Kniazaluka (Ukraine) | Cornelia Mittendorfer
DESCRIPTION:Schon lange vor dem Angriffskrieg gegen die Ukraine hat sich die Künstlerin im dortigen Alltag dem Unvorhersehbaren „fehlerhafter“ Bildgestaltung ausgeliefert\, um dem Unsagbaren auf die Spur zu kommen. In der Hingabe an das Rauschen der doppelt belichteten Aufnahmen suchte sie ihrer Fassungslosigkeit angesichts der Verwerfungen in den Bloodlands (Timothy Snyder) beizukommen\, wie mit einer Muschel am Ohr vertieft in das Rauschen vielleicht nie bewusst gewordener Erinnerungen an Entwurzelung\, Entfremdung\, Verlust und Tod. Denn das Gedächtnis\, das auf dem Visuellen beruht\, ist freier als der Verstand (John Berger). \nAus der Serie Double Alienation stellt Mittendorfer eine Arbeit für die Ausstellung und Benefiz-Auktion Together We Art – Rome zur Verfügung: \nwww.togetherweart.com/rome-edition-22/cornelia-mittendorfer \nInfos zur Versteigerung:  www.togetherweart.com     \nCornelia Mittendorfer (AT) lebt als Künstlerin und Juristin in Wien. Sieben Jahre Lebensmittelpunkt in Rom. Arbeitet sparten- und medienübergreifend in den Bereichen Fotografie und bildende Kunst\, Sprache und Text\, Sound Art\, Video und Installation\, teils in langfristigen Rechercheprojekten. Wesentlicher Teil ihrer Arbeit ist die Erforschung der condition humaine\, entweder als Schulung der eigenen Wahrnehmung oder durch die Hinwendung zu einem politisch-historischen Thema. Wissenschaftliche Hilfsmittel werden zur Begründung und Vorbereitung der künstlerischen Konzepte eingesetzt. \nwww.cornelia-mittendorfer.at
URL:https://www.austriacult.roma.it/de/veranstaltung/double-alienation-kniazaluka-ukraine-cornelia-mittendorfer/
LOCATION:Rom – PALAZZO VELLI EXPO\, Piazza di Sant’Egidio 10
CATEGORIES:Ausstellung
ATTACH;FMTTYPE=image/jpeg:https://www.austriacult.roma.it/wp-content/uploads/2022/10/Mittendorfer_Kniazaluka-resized.jpg
END:VEVENT
END:VCALENDAR