BEGIN:VCALENDAR
VERSION:2.0
PRODID:-//Forum Austriaco di Cultura Roma - ECPv5.12.4//NONSGML v1.0//EN
CALSCALE:GREGORIAN
METHOD:PUBLISH
X-WR-CALNAME:Forum Austriaco di Cultura Roma
X-ORIGINAL-URL:https://www.austriacult.roma.it/de
X-WR-CALDESC:Events for Forum Austriaco di Cultura Roma
BEGIN:VTIMEZONE
TZID:Europe/Berlin
BEGIN:DAYLIGHT
TZOFFSETFROM:+0100
TZOFFSETTO:+0200
TZNAME:CEST
DTSTART:20150329T010000
END:DAYLIGHT
BEGIN:STANDARD
TZOFFSETFROM:+0200
TZOFFSETTO:+0100
TZNAME:CET
DTSTART:20151025T010000
END:STANDARD
END:VTIMEZONE
BEGIN:VEVENT
DTSTART;TZID=Europe/Berlin:20151103T200000
DTEND;TZID=Europe/Berlin:20151103T220000
DTSTAMP:20260421T020822
CREATED:20151020T091637Z
LAST-MODIFIED:20151020T093821Z
UID:2964-1446580800-1446588000@www.austriacult.roma.it
SUMMARY:Doron Rabinovici
DESCRIPTION:presentazione libro \nL’autore austriaco Doron Rabinovici presenta i suoi romanzi più recenti già pubblicati in Italia da La Giuntina: Altrove (2013\, Andernorts) e Alla ricerca di M. (2014\, Suche nach M.). Reading in italiano e in tedesco. Modera Francesco Fiorentino\, Professore di Letteratura tedesca all’Università Roma Tre. \nFoto: © Reinhard Werner
URL:https://www.austriacult.roma.it/de/veranstaltung/doron-rabinovici/
LOCATION:Rom – Österreichisches Kulturforum\, Viale Bruno Buozzi 113\, 00197
CATEGORIES:Literatur
ATTACH;FMTTYPE=image/jpeg:https://www.austriacult.roma.it/wp-content/uploads/2015/10/foto-copyright-reinhard-werner.jpg
END:VEVENT
END:VCALENDAR