BEGIN:VCALENDAR
VERSION:2.0
PRODID:-//Forum Austriaco di Cultura Roma - ECPv5.12.4//NONSGML v1.0//EN
CALSCALE:GREGORIAN
METHOD:PUBLISH
X-WR-CALNAME:Forum Austriaco di Cultura Roma
X-ORIGINAL-URL:https://www.austriacult.roma.it/de
X-WR-CALDESC:Events for Forum Austriaco di Cultura Roma
BEGIN:VTIMEZONE
TZID:Europe/Berlin
BEGIN:DAYLIGHT
TZOFFSETFROM:+0100
TZOFFSETTO:+0200
TZNAME:CEST
DTSTART:20240331T010000
END:DAYLIGHT
BEGIN:STANDARD
TZOFFSETFROM:+0200
TZOFFSETTO:+0100
TZNAME:CET
DTSTART:20241027T010000
END:STANDARD
END:VTIMEZONE
BEGIN:VEVENT
DTSTART;TZID=Europe/Berlin:20240701T213000
DTEND;TZID=Europe/Berlin:20240701T213000
DTSTAMP:20260421T133350
CREATED:20240626T140327Z
LAST-MODIFIED:20240701T071354Z
UID:19766-1719869400-1719869400@www.austriacult.roma.it
SUMMARY:THOSE NEXT TO US | Bernhard Hetzenauer
DESCRIPTION:Regie: Bernhard Hetzenauer \nKamera:  Bernhard Hetzenauer \nEditing: Gabriela Ivette\, Sandoval Torres \nProduktion: Bernhard Hetzenauer\, Irene Hetzenauer\, Marko Mijatovic \n  \nDer österreichische Regisseur Bernhard Hetzenauer wird am Sole Luna Doc Festival Palermo teilnehmen. Das Dokufilm-Festival zeigt seinen Kurzfilm „Those next to us“ (AT/D/ME/CH\, 30 min) am 1. Juli.  \n  \nAm 22. Juli 2017 entdeckte die texanische Polizei auf einem Walmart-Parkplatz einen LKW\, in dessen Laderaum sich drei Dutzend illegale Einwander*innen befanden. Ein Schlepper sollte sie von der US-mexikanischen Grenzstadt Laredo nach San Antonio bringen. Während des stundenlangen Transports ohne Frischluft\, Kühlung oder Wasser starben acht Menschen\, zwei weitere erlagen im Krankenhaus ihrer Dehydrierung. Der Hergang der Ereignisse wird in Those Next to Us von einem der Überlebenden\, Germán López Rosales\, aus dem Off erzählt. Seine Geschichte bricht die Unsichtbarkeit und zeigt zweierlei: die Brutalität des Geschäfts mit der Migration und die Illusion der Undurchlässigkeit militarisierter Grenzen in einer Welt sozialer Ungleichheiten. \nBernhard Hetzenauer (*Innsbruck 1981) ist Filmemacher\, Medienkünstler und Autor. Studium an der New York Film Academy\, Universität für angewandte Kunst Wien\, FUC Buenos Aires und HFBK Hamburg. Seine Film- und Videoarbeiten waren im Kino\, TV\, Festival- und Kunstkontext in 28 Ländern zu sehen und wurden mehrfach ausgezeichnet\, u.a. mit dem Theodor Körner Preis\, Crossing Europe Innovative Award\, Yale University’s LIFFY Kurzfilmpreis\, DocsMX Kurzfilmpreis\, Nonfiktionale Kurzfilmpreis\, Förderpreis für zeitgenössische Kunst des Landes Tirol.\nIn Buchform erschienen der Essay „Das Innen im Außen“ / „Lo interior afuera“ im Berliner Alexander Verlag und im Verlag der UNAM/Cineteca Nacional Mexico\, sowie das Kunstbuch „Faces of Athens“ im Berliner Revolver Verlag. \nMehr zum Festival: www.solelunadoc.org \nProgramm \n 
URL:https://www.austriacult.roma.it/de/veranstaltung/bernhard-hetzenauer-those-next-to-us/
LOCATION:Palermo – GAM Galleria d’arte moderna\, Piazza Croce dei Vespri\, Cortile Bonet
CATEGORIES:Film,Programm
ATTACH;FMTTYPE=image/png:https://www.austriacult.roma.it/wp-content/uploads/2024/06/Grafik.png
END:VEVENT
END:VCALENDAR