BEGIN:VCALENDAR
VERSION:2.0
PRODID:-//Forum Austriaco di Cultura Roma - ECPv5.12.4//NONSGML v1.0//EN
CALSCALE:GREGORIAN
METHOD:PUBLISH
X-WR-CALNAME:Forum Austriaco di Cultura Roma
X-ORIGINAL-URL:https://www.austriacult.roma.it/de
X-WR-CALDESC:Events for Forum Austriaco di Cultura Roma
BEGIN:VTIMEZONE
TZID:Europe/Berlin
BEGIN:DAYLIGHT
TZOFFSETFROM:+0100
TZOFFSETTO:+0200
TZNAME:CEST
DTSTART:20150329T010000
END:DAYLIGHT
BEGIN:STANDARD
TZOFFSETFROM:+0200
TZOFFSETTO:+0100
TZNAME:CET
DTSTART:20151025T010000
END:STANDARD
END:VTIMEZONE
BEGIN:VEVENT
DTSTART;TZID=Europe/Berlin:20151030T210000
DTEND;TZID=Europe/Berlin:20151030T230000
DTSTAMP:20260421T003921
CREATED:20151007T084406Z
LAST-MODIFIED:20151020T142810Z
UID:2953-1446238800-1446246000@www.austriacult.roma.it
SUMMARY:Bathtub Rituals\, Susana Sawoff\, Christian Wendt\, Jörg Haberl
DESCRIPTION:concerto jazz \nLa jazzista austriaca Susana Sawoff in concerto a Roma per presentare il nuovo album\, Bathtub Rituals. Il trio jazz in formazione classica (pianoforte\, contrabbasso e batteria) calcherà il palco della Casa del Jazz il 30 ottobre 2015. Un lavoro che descrive il microcosmo di Susana Sawoff con voce calda e calma. Uno stile intimistico concentrato sull’essenza. Una calligrafia musicale che si sofferma sui dettagli. \nIl titolo del disco\, Bathtub Rituals\, allude all’ambiente rilassato e sicuro della vasca da bagno\, una miscela confortante adatta alle relazioni umane\, come raccontate nei componimenti del nuovo album. \nSusana Sawoff (pianofote e voce) si esibisce in tutta Europa insieme agli altrettanto acclamati Christian Wendt (contrabbasso e voce) e Jörg Haberl (batteria e voce). Susana Sawoff ha ricevuto tre nomination al Amadeus\, il principale premio musicale austriaco nel settore pop. Il suo disco d’esordio\, Wrapped up in a little Sigh\, è ora alla terza ristampa. Il suo ultimo album\, Bathtub Rituals\, è uscito il 12 giugno 2015. \nQuesta la pagina web dell’artista http://www.susanasawoff.com/ \nPer informazioni aggiornate sul concerto www.casajazz.it \nFoto: © Hanna Malou \n  \n 
URL:https://www.austriacult.roma.it/de/veranstaltung/bathtub-rituals-susana-sawoff-christian-wendt-joerg-haberl/
LOCATION:Casa del Jazz\, Viale di Porta Ardeatina 55\, Rom\, Italien
CATEGORIES:Musik
END:VEVENT
END:VCALENDAR