BEGIN:VCALENDAR
VERSION:2.0
PRODID:-//Forum Austriaco di Cultura Roma - ECPv5.12.4//NONSGML v1.0//EN
CALSCALE:GREGORIAN
METHOD:PUBLISH
X-WR-CALNAME:Forum Austriaco di Cultura Roma
X-ORIGINAL-URL:https://www.austriacult.roma.it/de
X-WR-CALDESC:Events for Forum Austriaco di Cultura Roma
BEGIN:VTIMEZONE
TZID:Europe/Berlin
BEGIN:DAYLIGHT
TZOFFSETFROM:+0100
TZOFFSETTO:+0200
TZNAME:CEST
DTSTART:20200329T010000
END:DAYLIGHT
BEGIN:STANDARD
TZOFFSETFROM:+0200
TZOFFSETTO:+0100
TZNAME:CET
DTSTART:20201025T010000
END:STANDARD
END:VTIMEZONE
BEGIN:VEVENT
DTSTART;TZID=Europe/Berlin:20200604T180000
DTEND;TZID=Europe/Berlin:20200611T180000
DTSTAMP:20260421T231545
CREATED:20200520T150047Z
LAST-MODIFIED:20200604T150242Z
UID:8564-1591293600-1591898400@www.austriacult.roma.it
SUMMARY:BARTOLOMEYBITTMANN
DESCRIPTION:Matthias Bartolomey (Violoncello) und Klemens Bittmann (Violine\, Mandola) führte die Lust am gemeinsamen Entwickeln neuer Klangbilder für ihr beiden stark in der klassischen Musiktradition verankerten Instrumente zusammen. Spontanität und Improvisation sind es\, mit denen sie – ganz der Jazzästhetik entsprechend – intim groovende und kraftvoll rockende Elemente verbinden. Sie verstehen es\, dank ihres Ideenreichtums und ihrer vielschichtigen und eigenständigen Note ein gänzlich innovatives musikalisches Universum zu erschaffen. \n«Die Nummern des 2012 gegründeten Duos entwickeln einen ungemein abwechslungsreichen Ton\, einen\, der etwas Magisches und Lyrisches entfaltet\, farbenreiche Bilder in die Gedanken pflanzt und immer wieder andere Akzente zu setzen weiß.». (Michael Ternai) \nDas exklusiv für das Österreichische Kulturforum Rom aufgenommene Konzert führt uns an die Lieblingsplätze des Duos in Altaussee im Salzkammergut.  \n \nProgramm \nDas Duo hat mit “Meridian” (2013)\, “Neubau” (2015) und “DYNAMO” (2019) bisher drei Alben veröffentlicht. 2018 gewannen sie den 2. Preis des BMW-Welt Jazz Award in München. \nwww.bartolomeybittmann.at \nMatthias Bartolomey (Violoncello) \nGeboren in Wien. Im Alter von sechs Jahren erhielt er den ersten Cellounterricht bei seinem Vater\, Franz Bartolomey. Er studierte in den Konzertfachklassen bei Prof. Valentin Erben an der Universität für Musik und darstellende Kunst in Wien und bei Prof. Clemens Hagen am Mozarteum Salzburg. Es folgten eine Reihe von Preisen\, im Zuge seiner solistischen Tätigkeit arbeitete er u. a. mit dem Wiener Kammerorchester\, der Wiener Kammerphilharmonie\, dem Sinfonieorchester der Universität Mozarteum\, dem Symphony in C Philadelphia und dem Istanbul Devlent Senfoni Orkestarsi zusammen. Zu seinen regelmäßigen Kammermusikpartnern zählen unter anderem Benjamin Schmid\, Helmut Deutsch\, Matthias Schorn\, Georg Breinschmid\, Florian Willeitner und das Signum Saxophon Quartett. Im Bereich der Orchestermusik wirkte Matthias Bartolomey im Orchester der Wiener Staatsoper\, bei den Wiener Philharmonikern\, den Wiener Symphonikern\, dem Tonkünstlerorchester Niederösterreich\, beim Chamber Orchestra of Europe und dem Mahler Chamber Orchestra mit. Seit 2010 spielt er als Solo-Cellist bei dem von Nikolaus Harnoncourt gegründeten Concentus Musicus Wien. \n2012 gründete er mit Klemens Bittmann das Duo BartolomeyBittmann — progressive strings vienna. Seit 2017 ist er vermehrt auch als Komponist mit Fokus auf die Erweiterung des Cello-Repertoirs und der damit verbundenen Entwicklung progressiver Spieltechniken tätig. Seit 2020 unterrichtet er am Mozarteum Salzburg.  \nMatthias Bartolomey spielt ein Violoncello von David Tecchler\, Rom 1727. \nKlemens Bittmann (Violine und Mandola) \nGeboren in Graz. Studium der klassischen Violine an der Universität für Musik & darstellende Kunst Graz und Jazzgeige bei Didier Lockwood am Didier Lockwood Music Center in Paris. Er lebt als freischaffender Musiker in Wien und unterrichtet an der Universität für Musik & darstellende Kunst in Graz. \nKlemens Bittmann gründete die Formationen Beefólk\, folksmilch\, Radio String Quartet und das Duo BartolomeyBittmann\, wo er sowohl als Geiger und Mandola-Spieler als auch als Komponist und Arrangeur aktiv ist.  Weiters ist Klemens Bittmann vielfach als Studioarrangeur und Studiomusiker für Streicher-Arrangements sowie als Workshopleiter tätig und ist Lehrbeauftragter an der Universität für Musik und darstellende Kunst in Graz.  \nMit seinen Ensembles absolviert er zahlreiche Konzerttourneen in Österreich und Deutschland\, den Niederlanden\, Iran\, Island\, Russland\, USA\, Norwegen\, Kenia\, Malta\, China\, Japan und Hong Kong. \nKlemens Bittmann spielt eine Violine von Josephus Pauli (Linz\, 1817) und eine selbst entwickelte Mandola von Markus Kirchmayr (Natters in Tirol\, 2017). \n 
URL:https://www.austriacult.roma.it/de/veranstaltung/bartolomeybittmann/
LOCATION:#ConcertiSulSofà #AustriaKulturDigital
CATEGORIES:Musik
ATTACH;FMTTYPE=image/jpeg:https://www.austriacult.roma.it/wp-content/uploads/2020/05/BartolomeyBittmann_DYNAMO┬⌐MaxParovsky.jpg
END:VEVENT
END:VCALENDAR