BEGIN:VCALENDAR
VERSION:2.0
PRODID:-//Forum Austriaco di Cultura Roma - ECPv5.12.4//NONSGML v1.0//EN
CALSCALE:GREGORIAN
METHOD:PUBLISH
X-WR-CALNAME:Forum Austriaco di Cultura Roma
X-ORIGINAL-URL:https://www.austriacult.roma.it/de
X-WR-CALDESC:Events for Forum Austriaco di Cultura Roma
BEGIN:VTIMEZONE
TZID:Europe/Berlin
BEGIN:DAYLIGHT
TZOFFSETFROM:+0100
TZOFFSETTO:+0200
TZNAME:CEST
DTSTART:20210328T010000
END:DAYLIGHT
BEGIN:STANDARD
TZOFFSETFROM:+0200
TZOFFSETTO:+0100
TZNAME:CET
DTSTART:20211031T010000
END:STANDARD
END:VTIMEZONE
BEGIN:VEVENT
DTSTART;VALUE=DATE:20211002
DTEND;VALUE=DATE:20211101
DTSTAMP:20260421T220945
CREATED:20211004T140137Z
LAST-MODIFIED:20211004T140224Z
UID:10967-1633132800-1635724799@www.austriacult.roma.it
SUMMARY:ARCHITEKTUR IN SALZBURG
DESCRIPTION:Aufgeteilt auf drei Stockwerke des Museo Casa Manno illustrieren 17 Paneele einen Streifzug durch die Architektur in Salzburg\, vom Barock bis ins 21. Jahrhundert. Die Bauprojekte zeigen neben dem  Geschmack ihrer öffentlichen und privaten Auftraggeber auch die mit ihnen verbundenen politischen Einflüsse. Die Wanderausstellung wird von einem mehrsprachigen Katalog begleitet. \nKuratorin: Dr. Dietgard Grimmer in Zusammenarbeit mit dem BMEIA /Ministero degli Affari Esteri d’Austria. \nAUSTRIAMENTIS ist ein Projekt von Valentina Piredda-Sardinia\, die es auch kuratiert. \n 
URL:https://www.austriacult.roma.it/de/veranstaltung/architettura-a-salisburgo/
LOCATION:Alghero – Museo Casa Manno\, via Santa Barbara 23
CATEGORIES:Ausstellung
ATTACH;FMTTYPE=image/jpeg:https://www.austriacult.roma.it/wp-content/uploads/2021/10/Hauptbahnhof-Salzburg-kadawittfeldarchitektur-2009-2014.-Foto-Michael-Baschata.jpg
END:VEVENT
END:VCALENDAR