BEGIN:VCALENDAR
VERSION:2.0
PRODID:-//Forum Austriaco di Cultura Roma - ECPv5.12.4//NONSGML v1.0//EN
CALSCALE:GREGORIAN
METHOD:PUBLISH
X-WR-CALNAME:Forum Austriaco di Cultura Roma
X-ORIGINAL-URL:https://www.austriacult.roma.it/de
X-WR-CALDESC:Events for Forum Austriaco di Cultura Roma
BEGIN:VTIMEZONE
TZID:Europe/Berlin
BEGIN:DAYLIGHT
TZOFFSETFROM:+0100
TZOFFSETTO:+0200
TZNAME:CEST
DTSTART:20190331T010000
END:DAYLIGHT
BEGIN:STANDARD
TZOFFSETFROM:+0200
TZOFFSETTO:+0100
TZNAME:CET
DTSTART:20191027T010000
END:STANDARD
END:VTIMEZONE
BEGIN:VEVENT
DTSTART;TZID=Europe/Berlin:20190404T114500
DTEND;TZID=Europe/Berlin:20190404T133000
DTSTAMP:20260422T165710
CREATED:20190326T121339Z
LAST-MODIFIED:20190328T121305Z
UID:6083-1554378300-1554384600@www.austriacult.roma.it
SUMMARY:Anna Baar
DESCRIPTION:Die junge österreichische Schriftstellerin Anna Baar kommt am 2. April zu einer Lesung nach Rom und stellt dabei ihren Roman „Die Farbe des Granatapfels“ (Il colore della melagrana) vor.  \nWeitere Stationen ihrer Lesereise:  \nUniversität Pisa (Dipartimento di Filologia\, Letteratura e Linguistica)\, Via Santa Maria 36: 11.45 Uhr\nUniversität Florenz (Aula Magna)\, Via San Gallo 10:15 Uhr \nBiografie: \nAnna Baar\, geboren in Zagreb im ehemaligen Jugoslawien\, verbrachte ihre Kindheit und Jugend in Wien\, Klagenfurt und auf der dalmatinischen Insel Brač. Nach der Matura am Stiftsgymnasium Viktring studierte sie unter anderem Theaterwissenschaften und Öffentlichkeitsarbeit an den Universitäten Wien und Klagenfurt und promovierte 2008 zur Doktorin der Philosophie. Ihr mehrfach ausgezeichneter Debütroman „Die Farbe des Granatapfels“ (2015 im Wallstein Verlag erschienen) stand drei Monate auf Platz 1 der ORF-Bestenliste. \nFür den jüngsten\, ebenfalls hochgelobten Roman „Als ob sie träumend gingen“ (Wallstein 2017) erhielt sie den Theodor Körner Förderpreis. Mit ihrem bildhaften\, expressiven Erzählton gehört Anna Baar zu den kühnsten Stimmen der deutschsprachigen Gegenwartsliteratur.
URL:https://www.austriacult.roma.it/de/veranstaltung/anna-baar-2/
LOCATION:Pisa – Dipartimento di Filologia\, Letteratura e Linguistica\, Via Santa Maria 36
CATEGORIES:Literatur
ATTACH;FMTTYPE=image/jpeg:https://www.austriacult.roma.it/wp-content/uploads/2019/03/Baar.jpg
END:VEVENT
END:VCALENDAR