BEGIN:VCALENDAR
VERSION:2.0
PRODID:-//Forum Austriaco di Cultura Roma - ECPv5.12.4//NONSGML v1.0//EN
CALSCALE:GREGORIAN
METHOD:PUBLISH
X-WR-CALNAME:Forum Austriaco di Cultura Roma
X-ORIGINAL-URL:https://www.austriacult.roma.it/de
X-WR-CALDESC:Events for Forum Austriaco di Cultura Roma
BEGIN:VTIMEZONE
TZID:Europe/Berlin
BEGIN:DAYLIGHT
TZOFFSETFROM:+0100
TZOFFSETTO:+0200
TZNAME:CEST
DTSTART:20210328T010000
END:DAYLIGHT
BEGIN:STANDARD
TZOFFSETFROM:+0200
TZOFFSETTO:+0100
TZNAME:CET
DTSTART:20211031T010000
END:STANDARD
END:VTIMEZONE
BEGIN:VEVENT
DTSTART;VALUE=DATE:20211001
DTEND;VALUE=DATE:20211025
DTSTAMP:20260422T043141
CREATED:20211001T125135Z
LAST-MODIFIED:20211004T072924Z
UID:10943-1633046400-1635119999@www.austriacult.roma.it
SUMMARY:Anita Gratzer @WELCOME
DESCRIPTION:Die österreichische Künstlerin Anita Gratzer aus Anlass der 10. Ausgabe des Residencyprojekts “Swatch Art Peace Hotel” in der Gruppenausstellung WELCOME im Museum MAXXI vertreten. Zu sehen sind Arbeiten von 19 KünstlerInnen aus zehn verschiedenen Ländern\, die in den vergangenen Jahren an dem Austauschprogramm in Shanghai teilgenommen haben. \nAlle Infos auf: https://www.maxxi.art/events/welcome-10-anni-di-swatch-art-peace-hotel/ \nWebsite der Künstlerin: www.anita-gratzer.net \n 
URL:https://www.austriacult.roma.it/de/veranstaltung/anita-gratzer-welcome/
LOCATION:Roma – MAXXI\, Via Guido Reni 4a
CATEGORIES:Ausstellung
ATTACH;FMTTYPE=image/jpeg:https://www.austriacult.roma.it/wp-content/uploads/2021/10/Gratzer.jpg
END:VEVENT
END:VCALENDAR