BEGIN:VCALENDAR
VERSION:2.0
PRODID:-//Forum Austriaco di Cultura Roma - ECPv5.12.4//NONSGML v1.0//EN
CALSCALE:GREGORIAN
METHOD:PUBLISH
X-WR-CALNAME:Forum Austriaco di Cultura Roma
X-ORIGINAL-URL:https://www.austriacult.roma.it/de
X-WR-CALDESC:Events for Forum Austriaco di Cultura Roma
BEGIN:VTIMEZONE
TZID:Europe/Berlin
BEGIN:DAYLIGHT
TZOFFSETFROM:+0100
TZOFFSETTO:+0200
TZNAME:CEST
DTSTART:20200329T010000
END:DAYLIGHT
BEGIN:STANDARD
TZOFFSETFROM:+0200
TZOFFSETTO:+0100
TZNAME:CET
DTSTART:20201025T010000
END:STANDARD
END:VTIMEZONE
BEGIN:VEVENT
DTSTART;TZID=Europe/Berlin:20200707T210000
DTEND;TZID=Europe/Berlin:20200707T210000
DTSTAMP:20260421T185633
CREATED:20200615T121429Z
LAST-MODIFIED:20200617T113545Z
UID:8833-1594155600-1594155600@www.austriacult.roma.it
SUMMARY:ANDERS ESSEN - DAS EXPERIMENT
DESCRIPTION:Dokumentarfilm\, 2020\, 84 min.\, Orig. mit ital. Untertiteln\nRegie: Kurt Langbein und Andrea Ernst \nUnsere Art zu essen belastet das Klima. Lässt sich daran etwas ändern? Wie groß ist die CO2-Last tatsächlich und wie viel Land wird benötigt\, um unser Essen anzubauen? Drei Familien wagen den Selbstversuch. Sie beginnen regional einzukaufen und entdecken das Kochen neu. Das Ergebnis überrascht.\nFür die Dokumentation „Anders essen – Das Experiment“ wird erstmals ein Acker mit genau jenen Getreiden\, Gemüsen\, Früchten\, Ölsaaten und Gräsern bepflanzt\, die pro Person auf unseren Tellern landen – und die die Industrie unter anderem zu Futtermitteln für Tiere verarbeitet. Es entsteht ein Feld von 4.400 Quadratmetern Größe\, die Fläche eines kleinen Fußballfeldes\, das der „durchschnittliche“ Bürger benötigt. Zwei Drittel davon liegen im Ausland. Insgesamt verbrauchen wir doppelt so viel\, wie uns eigentlich zusteht: Würden sich alle Menschen so ernähren\, bräuchten wir eine zweite Erde; weltweit stehen einem Menschen lediglich 2.200 Quadratmeter zur Verfügung. Und: Unsere Lebensmittel verursachen so viel Treibhausgase wie der Autoverkehr. Dass es auch anders geht\, zeigen drei Familien im Selbstversuch: Sie wollen ihren Flächenverbrauch verringern\, fairer und umweltverträglicher essen. Anders kochen\, mit weniger Fleisch. Anders essen\, mit mehr Freude. Anders einkaufen\, regional und saisonal. Wird es gelingen? Eine Dokumentation über unsere Art einzukaufen\, zu kochen und zu essen und die Folgen für unsere Umwelt. „Anders essen“ – das Experiment zeigt\, wie man mit wenig Aufwand vieles verändern kann. \nDownload flyer_web (Italienisch)\nDownload Pressemitteilung (Italienisch)  \n  \nEINTRITT nur mit ANMELDUNG an rom-kf@bmeia.gv.at \nBitte geben Sie Vor- und Nachnamen (maximal 2 Besucher) und den/die gewünschten Film/e an. Anmeldefrist bis 12.00 Uhr des Vorführtages.\nDie Anmeldungen werden in der Reihenfolge ihres Eintreffens berücksichtigt und sind erst gültig\, sobald sie durch ein Mail des KF bestätigt werden.   \nZUGANGSMODALITÄTEN \nMaskenpflicht am Eingang; Temperaturmessung – kein Eintritt über 37\,5° C.; Mindestabstand von 1 Meter zu anderen Besuchern. \n 
URL:https://www.austriacult.roma.it/de/veranstaltung/anders-essen-das-experiment/
LOCATION:Rom – Österreichisches Kulturforum\, Viale Bruno Buozzi 113\, 00197
CATEGORIES:Film
ATTACH;FMTTYPE=image/jpeg:https://www.austriacult.roma.it/wp-content/uploads/2020/06/Anders-Essen-01.jpg
END:VEVENT
END:VCALENDAR