BEGIN:VCALENDAR
VERSION:2.0
PRODID:-//Forum Austriaco di Cultura Roma - ECPv5.12.4//NONSGML v1.0//EN
CALSCALE:GREGORIAN
METHOD:PUBLISH
X-WR-CALNAME:Forum Austriaco di Cultura Roma
X-ORIGINAL-URL:https://www.austriacult.roma.it/de
X-WR-CALDESC:Events for Forum Austriaco di Cultura Roma
BEGIN:VTIMEZONE
TZID:Europe/Berlin
BEGIN:DAYLIGHT
TZOFFSETFROM:+0100
TZOFFSETTO:+0200
TZNAME:CEST
DTSTART:20150329T010000
END:DAYLIGHT
BEGIN:STANDARD
TZOFFSETFROM:+0200
TZOFFSETTO:+0100
TZNAME:CET
DTSTART:20151025T010000
END:STANDARD
END:VTIMEZONE
BEGIN:VEVENT
DTSTART;TZID=Europe/Berlin:20151027T200000
DTEND;TZID=Europe/Berlin:20151027T220000
DTSTAMP:20260420T230220
CREATED:20151006T135926Z
LAST-MODIFIED:20151009T090119Z
UID:2940-1445976000-1445983200@www.austriacult.roma.it
SUMMARY:Adamas Quartett
DESCRIPTION:Concerto \nFondato nel 2003 da Claudia Schwarzl (violino)\, Roland Herret (violino)\, Jakob Gisler (violoncello) e Anna Dekan (viola). Fra i numerosi riconoscimenti si ricordano primo premio e menzione speciale ai concorsi internazionali di musica Schubertwettbewerb (Ruse 2009) e Verfemte Musik (Schwerin 2010). Selezionato dal Ministero degli Esteri austriaco per il programma NASOM (New Austrian Sound of Music) per il biennio 2012-2013\, il quartetto è costantemente in tournée e impegnato in masterclass in tutto il mondo. Il loro primo disco\, uscito nel 2013 per Gramola\, si è aggiudicato il premio dell’emittente nazionale austriaca Ö1\, il Pasticcio-Preis. \nI critici di musica segnalano l’Adamas Quartett come il quartetto d’archi più interessante di Vienna. Il loro modo interpretativo rende la musica classica avvincente e attuale. \nIl talento dei giovani musicisti si è consolidato attraverso numerosi concorsi e il fitto programma concertistico che li impegna in tournée attraverso Europa\, Stati Uniti\, Venezuela e Giappone. \nChiamati la settimana scorsa a esibirsi a Milano nell’ambito del programma culturale austriaco in occasione dell’EXPO 2015\, impreziosiscono il concerto di Roma con una composizione inedita dell’austriaco Serkan Gürkan\, che verrà eseguita al Forum in prima assoluta. A completare il programma capitolino\, brani di Hans Krasa e Franz Schubert. \n  \nhttp://adamas-quartett.at/
URL:https://www.austriacult.roma.it/de/veranstaltung/adamas-quartett/
LOCATION:Rom – Österreichisches Kulturforum\, Viale Bruno Buozzi 113\, 00197
CATEGORIES:Musik
ATTACH;FMTTYPE=image/jpeg:https://www.austriacult.roma.it/wp-content/uploads/2015/10/sophie_abraham-1.jpg
END:VEVENT
END:VCALENDAR